Workbook
Name PeopleNames: People!$A$2:$A$1000
Name ProjectNames: Projects!$A$2:$A$1000

Sheet Read me
B2: HEADROOM
B3: Agency Staffing Matrix
B4: Know who has headroom before you say yes.
B7: Three steps
B8: 1 | C8: =HYPERLINK("#People!A1","People") -> People | D8: One row per person on your team.
B9: 2 | C9: =HYPERLINK("#Projects!A1","Projects") -> Projects | D9: Client, status and key date for each one.
B10: 3 | C10: =HYPERLINK("#Matrix!A1","Matrix") -> Matrix | D10: Pick each person's load, week by week. Summary shows who's slammed.
C11: The filled-in rows are examples from Northwind Creative, a made-up agency. Type over them or delete them.
B13: The load scale
C14: Very Heavy | D14: At capacity. Can't take anything else this week.
C15: Heavy | D15: Busy. Small asks only.
C16: Medium | D16: A steady, normal week.
C17: Light | D17: Has room for more.
C18: Low | D18: Mostly available.
C21: =HYPERLINK("https://teamheadroom.com","This gets painful past ~15 people → try Headroom free at teamheadroom.com") -> This gets painful past ~15 people → try Headroom free at teamheadroom.com
C22: Already using Headroom? Import this file at app.teamheadroom.com/import.
C23: © 2026 LOOP AI. Free to use and share.

Sheet Summary
A1: Who's slammed, week by week
A2: ="Week of "&TEXT($B$4,"mmm d")&": "&COUNTIF($B$5:$B$44,"Very Heavy")&" Very Heavy, "&COUNTIF($B$5:$B$44,"Heavy")&" Heavy. Built from the Matrix tab, nothing to type here." -> Week of Oct 5: 1 Very Heavy, 3 Heavy. Built from the Matrix tab, nothing to type here.
A4: Person | B4: =Matrix!E1 -> 46300 | C4: =Matrix!F1 -> 46307 | D4: =Matrix!G1 -> 46314 | E4: =Matrix!H1 -> 46321 | F4: =Matrix!I1 -> 46328 | G4: =Matrix!J1 -> 46335 | H4: =Matrix!K1 -> 46342 | I4: =Matrix!L1 -> 46349 | ... M4: =Matrix!P1 -> 46377 | O4: Very Heavy weeks
A5: =IF(People!$A2="","",People!$A2) -> Priya Natarajan | B5: =IF($A5="","",IF(COUNTIFS(Matrix!$A:$A,$A5,Matrix!E:E,"Very Heavy")>0,"Very Heavy",IF(COUNTIFS(Matrix!$A:$A,$A5,Matrix!E:E,"Heavy")>0,"Heavy",IF(COUNTIFS(Matrix!$A:$A,$A5,Matrix!E:E,"Medium")>0,"Medium",IF(COUNTIFS(Matrix!$A:$A,$A5,Matrix!E:E,"Light")>0,"Light",IF(COUNTIFS(Matrix!$A:$A,$A5,Matrix!E:E,"Low")>0,"Low","")))))) -> Heavy | C5: =IF($A5="","",IF(COUNTIFS(Matrix!$A:$A,$A5,Matrix!F:F,"Very Heavy")>0,"Very Heavy",IF(COUNTIFS(Matrix!$A:$A,$A5,Matrix!F:F,"Heavy")>0,"Heavy",IF(COUNTIFS(Matrix!$A:$A,$A5,Matrix!F:F,"Medium")>0,"Medium",IF(COUNTIFS(Matrix!$A:$A,$A5,Matrix!F:F,"Light")>0,"Light",IF(COUNTIFS(Matrix!$A:$A,$A5,Matrix!F:F,"Low")>0,"Low","")))))) -> Medium | D5: =IF($A5="","",IF(COUNTIFS(Matrix!$A:$A,$A5,Matrix!G:G,"Very Heavy")>0,"Very Heavy",IF(COUNTIFS(Matrix!$A:$A,$A5,Matrix!G:G,"Heavy")>0,"Heavy",IF(COUNTIFS(Matrix!$A:$A,$A5,Matrix!G:G,"Medium")>0,"Medium",IF(COUNTIFS(Matrix!$A:$A,$A5,Matrix!G:G,"Light")>0,"Light",IF(COUNTIFS(Matrix!$A:$A,$A5,Matrix!G:G,"Low")>0,"Low","")))))) -> Medium | E5: =IF($A5="","",IF(COUNTIFS(Matrix!$A:$A,$A5,Matrix!H:H,"Very Heavy")>0,"Very Heavy",IF(COUNTIFS(Matrix!$A:$A,$A5,Matrix!H:H,"Heavy")>0,"Heavy",IF(COUNTIFS(Matrix!$A:$A,$A5,Matrix!H:H,"Medium")>0,"Medium",IF(COUNTIFS(Matrix!$A:$A,$A5,Matrix!H:H,"Light")>0,"Light",IF(COUNTIFS(Matrix!$A:$A,$A5,Matrix!H:H,"Low")>0,"Low","")))))) -> Medium | F5: =IF($A5="","",IF(COUNTIFS(Matrix!$A:$A,$A5,Matrix!I:I,"Very Heavy")>0,"Very Heavy",IF(COUNTIFS(Matrix!$A:$A,$A5,Matrix!I:I,"Heavy")>0,"Heavy",IF(COUNTIFS(Matrix!$A:$A,$A5,Matrix!I:I,"Medium")>0,"Medium",IF(COUNTIFS(Matrix!$A:$A,$A5,Matrix!I:I,"Light")>0,"Light",IF(COUNTIFS(Matrix!$A:$A,$A5,Matrix!I:I,"Low")>0,"Low","")))))) | G5: =IF($A5="","",IF(COUNTIFS(Matrix!$A:$A,$A5,Matrix!J:J,"Very Heavy")>0,"Very Heavy",IF(COUNTIFS(Matrix!$A:$A,$A5,Matrix!J:J,"Heavy")>0,"Heavy",IF(COUNTIFS(Matrix!$A:$A,$A5,Matrix!J:J,"Medium")>0,"Medium",IF(COUNTIFS(Matrix!$A:$A,$A5,Matrix!J:J,"Light")>0,"Light",IF(COUNTIFS(Matrix!$A:$A,$A5,Matrix!J:J,"Low")>0,"Low","")))))) | H5: =IF($A5="","",IF(COUNTIFS(Matrix!$A:$A,$A5,Matrix!K:K,"Very Heavy")>0,"Very Heavy",IF(COUNTIFS(Matrix!$A:$A,$A5,Matrix!K:K,"Heavy")>0,"Heavy",IF(COUNTIFS(Matrix!$A:$A,$A5,Matrix!K:K,"Medium")>0,"Medium",IF(COUNTIFS(Matrix!$A:$A,$A5,Matrix!K:K,"Light")>0,"Light",IF(COUNTIFS(Matrix!$A:$A,$A5,Matrix!K:K,"Low")>0,"Low","")))))) | I5: =IF($A5="","",IF(COUNTIFS(Matrix!$A:$A,$A5,Matrix!L:L,"Very Heavy")>0,"Very Heavy",IF(COUNTIFS(Matrix!$A:$A,$A5,Matrix!L:L,"Heavy")>0,"Heavy",IF(COUNTIFS(Matrix!$A:$A,$A5,Matrix!L:L,"Medium")>0,"Medium",IF(COUNTIFS(Matrix!$A:$A,$A5,Matrix!L:L,"Light")>0,"Light",IF(COUNTIFS(Matrix!$A:$A,$A5,Matrix!L:L,"Low")>0,"Low","")))))) | J5: =IF($A5="","",IF(COUNTIFS(Matrix!$A:$A,$A5,Matrix!M:M,"Very Heavy")>0,"Very Heavy",IF(COUNTIFS(Matrix!$A:$A,$A5,Matrix!M:M,"Heavy")>0,"Heavy",IF(COUNTIFS(Matrix!$A:$A,$A5,Matrix!M:M,"Medium")>0,"Medium",IF(COUNTIFS(Matrix!$A:$A,$A5,Matrix!M:M,"Light")>0,"Light",IF(COUNTIFS(Matrix!$A:$A,$A5,Matrix!M:M,"Low")>0,"Low","")))))) | K5: =IF($A5="","",IF(COUNTIFS(Matrix!$A:$A,$A5,Matrix!N:N,"Very Heavy")>0,"Very Heavy",IF(COUNTIFS(Matrix!$A:$A,$A5,Matrix!N:N,"Heavy")>0,"Heavy",IF(COUNTIFS(Matrix!$A:$A,$A5,Matrix!N:N,"Medium")>0,"Medium",IF(COUNTIFS(Matrix!$A:$A,$A5,Matrix!N:N,"Light")>0,"Light",IF(COUNTIFS(Matrix!$A:$A,$A5,Matrix!N:N,"Low")>0,"Low","")))))) | L5: =IF($A5="","",IF(COUNTIFS(Matrix!$A:$A,$A5,Matrix!O:O,"Very Heavy")>0,"Very Heavy",IF(COUNTIFS(Matrix!$A:$A,$A5,Matrix!O:O,"Heavy")>0,"Heavy",IF(COUNTIFS(Matrix!$A:$A,$A5,Matrix!O:O,"Medium")>0,"Medium",IF(COUNTIFS(Matrix!$A:$A,$A5,Matrix!O:O,"Light")>0,"Light",IF(COUNTIFS(Matrix!$A:$A,$A5,Matrix!O:O,"Low")>0,"Low","")))))) | M5: =IF($A5="","",IF(COUNTIFS(Matrix!$A:$A,$A5,Matrix!P:P,"Very Heavy")>0,"Very Heavy",IF(COUNTIFS(Matrix!$A:$A,$A5,Matrix!P:P,"Heavy")>0,"Heavy",IF(COUNTIFS(Matrix!$A:$A,$A5,Matrix!P:P,"Medium")>0,"Medium",IF(COUNTIFS(Matrix!$A:$A,$A5,Matrix!P:P,"Light")>0,"Light",IF(COUNTIFS(Matrix!$A:$A,$A5,Matrix!P:P,"Low")>0,"Low","")))))) | O5: =IF($A5="","",COUNTIF($B5:$M5,"Very Heavy")) -> 0
A6: =IF(People!$A3="","",People!$A3) -> Lena Fischer | B6: =IF($A6="","",IF(COUNTIFS(Matrix!$A:$A,$A6,Matrix!E:E,"Very Heavy")>0,"Very Heavy",IF(COUNTIFS(Matrix!$A:$A,$A6,Matrix!E:E,"Heavy")>0,"Heavy",IF(COUNTIFS(Matrix!$A:$A,$A6,Matrix!E:E,"Medium")>0,"Medium",IF(COUNTIFS(Matrix!$A:$A,$A6,Matrix!E:E,"Light")>0,"Light",IF(COUNTIFS(Matrix!$A:$A,$A6,Matrix!E:E,"Low")>0,"Low","")))))) -> Very Heavy | C6: =IF($A6="","",IF(COUNTIFS(Matrix!$A:$A,$A6,Matrix!F:F,"Very Heavy")>0,"Very Heavy",IF(COUNTIFS(Matrix!$A:$A,$A6,Matrix!F:F,"Heavy")>0,"Heavy",IF(COUNTIFS(Matrix!$A:$A,$A6,Matrix!F:F,"Medium")>0,"Medium",IF(COUNTIFS(Matrix!$A:$A,$A6,Matrix!F:F,"Light")>0,"Light",IF(COUNTIFS(Matrix!$A:$A,$A6,Matrix!F:F,"Low")>0,"Low","")))))) -> Very Heavy | D6: =IF($A6="","",IF(COUNTIFS(Matrix!$A:$A,$A6,Matrix!G:G,"Very Heavy")>0,"Very Heavy",IF(COUNTIFS(Matrix!$A:$A,$A6,Matrix!G:G,"Heavy")>0,"Heavy",IF(COUNTIFS(Matrix!$A:$A,$A6,Matrix!G:G,"Medium")>0,"Medium",IF(COUNTIFS(Matrix!$A:$A,$A6,Matrix!G:G,"Light")>0,"Light",IF(COUNTIFS(Matrix!$A:$A,$A6,Matrix!G:G,"Low")>0,"Low","")))))) -> Heavy | E6: =IF($A6="","",IF(COUNTIFS(Matrix!$A:$A,$A6,Matrix!H:H,"Very Heavy")>0,"Very Heavy",IF(COUNTIFS(Matrix!$A:$A,$A6,Matrix!H:H,"Heavy")>0,"Heavy",IF(COUNTIFS(Matrix!$A:$A,$A6,Matrix!H:H,"Medium")>0,"Medium",IF(COUNTIFS(Matrix!$A:$A,$A6,Matrix!H:H,"Light")>0,"Light",IF(COUNTIFS(Matrix!$A:$A,$A6,Matrix!H:H,"Low")>0,"Low","")))))) -> Heavy | F6: =IF($A6="","",IF(COUNTIFS(Matrix!$A:$A,$A6,Matrix!I:I,"Very Heavy")>0,"Very Heavy",IF(COUNTIFS(Matrix!$A:$A,$A6,Matrix!I:I,"Heavy")>0,"Heavy",IF(COUNTIFS(Matrix!$A:$A,$A6,Matrix!I:I,"Medium")>0,"Medium",IF(COUNTIFS(Matrix!$A:$A,$A6,Matrix!I:I,"Light")>0,"Light",IF(COUNTIFS(Matrix!$A:$A,$A6,Matrix!I:I,"Low")>0,"Low","")))))) | G6: =IF($A6="","",IF(COUNTIFS(Matrix!$A:$A,$A6,Matrix!J:J,"Very Heavy")>0,"Very Heavy",IF(COUNTIFS(Matrix!$A:$A,$A6,Matrix!J:J,"Heavy")>0,"Heavy",IF(COUNTIFS(Matrix!$A:$A,$A6,Matrix!J:J,"Medium")>0,"Medium",IF(COUNTIFS(Matrix!$A:$A,$A6,Matrix!J:J,"Light")>0,"Light",IF(COUNTIFS(Matrix!$A:$A,$A6,Matrix!J:J,"Low")>0,"Low","")))))) | H6: =IF($A6="","",IF(COUNTIFS(Matrix!$A:$A,$A6,Matrix!K:K,"Very Heavy")>0,"Very Heavy",IF(COUNTIFS(Matrix!$A:$A,$A6,Matrix!K:K,"Heavy")>0,"Heavy",IF(COUNTIFS(Matrix!$A:$A,$A6,Matrix!K:K,"Medium")>0,"Medium",IF(COUNTIFS(Matrix!$A:$A,$A6,Matrix!K:K,"Light")>0,"Light",IF(COUNTIFS(Matrix!$A:$A,$A6,Matrix!K:K,"Low")>0,"Low","")))))) | I6: =IF($A6="","",IF(COUNTIFS(Matrix!$A:$A,$A6,Matrix!L:L,"Very Heavy")>0,"Very Heavy",IF(COUNTIFS(Matrix!$A:$A,$A6,Matrix!L:L,"Heavy")>0,"Heavy",IF(COUNTIFS(Matrix!$A:$A,$A6,Matrix!L:L,"Medium")>0,"Medium",IF(COUNTIFS(Matrix!$A:$A,$A6,Matrix!L:L,"Light")>0,"Light",IF(COUNTIFS(Matrix!$A:$A,$A6,Matrix!L:L,"Low")>0,"Low","")))))) | J6: =IF($A6="","",IF(COUNTIFS(Matrix!$A:$A,$A6,Matrix!M:M,"Very Heavy")>0,"Very Heavy",IF(COUNTIFS(Matrix!$A:$A,$A6,Matrix!M:M,"Heavy")>0,"Heavy",IF(COUNTIFS(Matrix!$A:$A,$A6,Matrix!M:M,"Medium")>0,"Medium",IF(COUNTIFS(Matrix!$A:$A,$A6,Matrix!M:M,"Light")>0,"Light",IF(COUNTIFS(Matrix!$A:$A,$A6,Matrix!M:M,"Low")>0,"Low","")))))) | K6: =IF($A6="","",IF(COUNTIFS(Matrix!$A:$A,$A6,Matrix!N:N,"Very Heavy")>0,"Very Heavy",IF(COUNTIFS(Matrix!$A:$A,$A6,Matrix!N:N,"Heavy")>0,"Heavy",IF(COUNTIFS(Matrix!$A:$A,$A6,Matrix!N:N,"Medium")>0,"Medium",IF(COUNTIFS(Matrix!$A:$A,$A6,Matrix!N:N,"Light")>0,"Light",IF(COUNTIFS(Matrix!$A:$A,$A6,Matrix!N:N,"Low")>0,"Low","")))))) | L6: =IF($A6="","",IF(COUNTIFS(Matrix!$A:$A,$A6,Matrix!O:O,"Very Heavy")>0,"Very Heavy",IF(COUNTIFS(Matrix!$A:$A,$A6,Matrix!O:O,"Heavy")>0,"Heavy",IF(COUNTIFS(Matrix!$A:$A,$A6,Matrix!O:O,"Medium")>0,"Medium",IF(COUNTIFS(Matrix!$A:$A,$A6,Matrix!O:O,"Light")>0,"Light",IF(COUNTIFS(Matrix!$A:$A,$A6,Matrix!O:O,"Low")>0,"Low","")))))) | M6: =IF($A6="","",IF(COUNTIFS(Matrix!$A:$A,$A6,Matrix!P:P,"Very Heavy")>0,"Very Heavy",IF(COUNTIFS(Matrix!$A:$A,$A6,Matrix!P:P,"Heavy")>0,"Heavy",IF(COUNTIFS(Matrix!$A:$A,$A6,Matrix!P:P,"Medium")>0,"Medium",IF(COUNTIFS(Matrix!$A:$A,$A6,Matrix!P:P,"Light")>0,"Light",IF(COUNTIFS(Matrix!$A:$A,$A6,Matrix!P:P,"Low")>0,"Low","")))))) | O6: =IF($A6="","",COUNTIF($B6:$M6,"Very Heavy")) -> 2
A7: =IF(People!$A4="","",People!$A4) -> Marcus Bell | B7: =IF($A7="","",IF(COUNTIFS(Matrix!$A:$A,$A7,Matrix!E:E,"Very Heavy")>0,"Very Heavy",IF(COUNTIFS(Matrix!$A:$A,$A7,Matrix!E:E,"Heavy")>0,"Heavy",IF(COUNTIFS(Matrix!$A:$A,$A7,Matrix!E:E,"Medium")>0,"Medium",IF(COUNTIFS(Matrix!$A:$A,$A7,Matrix!E:E,"Light")>0,"Light",IF(COUNTIFS(Matrix!$A:$A,$A7,Matrix!E:E,"Low")>0,"Low","")))))) -> Heavy | C7: =IF($A7="","",IF(COUNTIFS(Matrix!$A:$A,$A7,Matrix!F:F,"Very Heavy")>0,"Very Heavy",IF(COUNTIFS(Matrix!$A:$A,$A7,Matrix!F:F,"Heavy")>0,"Heavy",IF(COUNTIFS(Matrix!$A:$A,$A7,Matrix!F:F,"Medium")>0,"Medium",IF(COUNTIFS(Matrix!$A:$A,$A7,Matrix!F:F,"Light")>0,"Light",IF(COUNTIFS(Matrix!$A:$A,$A7,Matrix!F:F,"Low")>0,"Low","")))))) -> Heavy | D7: =IF($A7="","",IF(COUNTIFS(Matrix!$A:$A,$A7,Matrix!G:G,"Very Heavy")>0,"Very Heavy",IF(COUNTIFS(Matrix!$A:$A,$A7,Matrix!G:G,"Heavy")>0,"Heavy",IF(COUNTIFS(Matrix!$A:$A,$A7,Matrix!G:G,"Medium")>0,"Medium",IF(COUNTIFS(Matrix!$A:$A,$A7,Matrix!G:G,"Light")>0,"Light",IF(COUNTIFS(Matrix!$A:$A,$A7,Matrix!G:G,"Low")>0,"Low","")))))) -> Very Heavy | E7: =IF($A7="","",IF(COUNTIFS(Matrix!$A:$A,$A7,Matrix!H:H,"Very Heavy")>0,"Very Heavy",IF(COUNTIFS(Matrix!$A:$A,$A7,Matrix!H:H,"Heavy")>0,"Heavy",IF(COUNTIFS(Matrix!$A:$A,$A7,Matrix!H:H,"Medium")>0,"Medium",IF(COUNTIFS(Matrix!$A:$A,$A7,Matrix!H:H,"Light")>0,"Light",IF(COUNTIFS(Matrix!$A:$A,$A7,Matrix!H:H,"Low")>0,"Low","")))))) -> Medium | F7: =IF($A7="","",IF(COUNTIFS(Matrix!$A:$A,$A7,Matrix!I:I,"Very Heavy")>0,"Very Heavy",IF(COUNTIFS(Matrix!$A:$A,$A7,Matrix!I:I,"Heavy")>0,"Heavy",IF(COUNTIFS(Matrix!$A:$A,$A7,Matrix!I:I,"Medium")>0,"Medium",IF(COUNTIFS(Matrix!$A:$A,$A7,Matrix!I:I,"Light")>0,"Light",IF(COUNTIFS(Matrix!$A:$A,$A7,Matrix!I:I,"Low")>0,"Low","")))))) | G7: =IF($A7="","",IF(COUNTIFS(Matrix!$A:$A,$A7,Matrix!J:J,"Very Heavy")>0,"Very Heavy",IF(COUNTIFS(Matrix!$A:$A,$A7,Matrix!J:J,"Heavy")>0,"Heavy",IF(COUNTIFS(Matrix!$A:$A,$A7,Matrix!J:J,"Medium")>0,"Medium",IF(COUNTIFS(Matrix!$A:$A,$A7,Matrix!J:J,"Light")>0,"Light",IF(COUNTIFS(Matrix!$A:$A,$A7,Matrix!J:J,"Low")>0,"Low","")))))) | H7: =IF($A7="","",IF(COUNTIFS(Matrix!$A:$A,$A7,Matrix!K:K,"Very Heavy")>0,"Very Heavy",IF(COUNTIFS(Matrix!$A:$A,$A7,Matrix!K:K,"Heavy")>0,"Heavy",IF(COUNTIFS(Matrix!$A:$A,$A7,Matrix!K:K,"Medium")>0,"Medium",IF(COUNTIFS(Matrix!$A:$A,$A7,Matrix!K:K,"Light")>0,"Light",IF(COUNTIFS(Matrix!$A:$A,$A7,Matrix!K:K,"Low")>0,"Low","")))))) | I7: =IF($A7="","",IF(COUNTIFS(Matrix!$A:$A,$A7,Matrix!L:L,"Very Heavy")>0,"Very Heavy",IF(COUNTIFS(Matrix!$A:$A,$A7,Matrix!L:L,"Heavy")>0,"Heavy",IF(COUNTIFS(Matrix!$A:$A,$A7,Matrix!L:L,"Medium")>0,"Medium",IF(COUNTIFS(Matrix!$A:$A,$A7,Matrix!L:L,"Light")>0,"Light",IF(COUNTIFS(Matrix!$A:$A,$A7,Matrix!L:L,"Low")>0,"Low","")))))) | J7: =IF($A7="","",IF(COUNTIFS(Matrix!$A:$A,$A7,Matrix!M:M,"Very Heavy")>0,"Very Heavy",IF(COUNTIFS(Matrix!$A:$A,$A7,Matrix!M:M,"Heavy")>0,"Heavy",IF(COUNTIFS(Matrix!$A:$A,$A7,Matrix!M:M,"Medium")>0,"Medium",IF(COUNTIFS(Matrix!$A:$A,$A7,Matrix!M:M,"Light")>0,"Light",IF(COUNTIFS(Matrix!$A:$A,$A7,Matrix!M:M,"Low")>0,"Low","")))))) | K7: =IF($A7="","",IF(COUNTIFS(Matrix!$A:$A,$A7,Matrix!N:N,"Very Heavy")>0,"Very Heavy",IF(COUNTIFS(Matrix!$A:$A,$A7,Matrix!N:N,"Heavy")>0,"Heavy",IF(COUNTIFS(Matrix!$A:$A,$A7,Matrix!N:N,"Medium")>0,"Medium",IF(COUNTIFS(Matrix!$A:$A,$A7,Matrix!N:N,"Light")>0,"Light",IF(COUNTIFS(Matrix!$A:$A,$A7,Matrix!N:N,"Low")>0,"Low","")))))) | L7: =IF($A7="","",IF(COUNTIFS(Matrix!$A:$A,$A7,Matrix!O:O,"Very Heavy")>0,"Very Heavy",IF(COUNTIFS(Matrix!$A:$A,$A7,Matrix!O:O,"Heavy")>0,"Heavy",IF(COUNTIFS(Matrix!$A:$A,$A7,Matrix!O:O,"Medium")>0,"Medium",IF(COUNTIFS(Matrix!$A:$A,$A7,Matrix!O:O,"Light")>0,"Light",IF(COUNTIFS(Matrix!$A:$A,$A7,Matrix!O:O,"Low")>0,"Low","")))))) | M7: =IF($A7="","",IF(COUNTIFS(Matrix!$A:$A,$A7,Matrix!P:P,"Very Heavy")>0,"Very Heavy",IF(COUNTIFS(Matrix!$A:$A,$A7,Matrix!P:P,"Heavy")>0,"Heavy",IF(COUNTIFS(Matrix!$A:$A,$A7,Matrix!P:P,"Medium")>0,"Medium",IF(COUNTIFS(Matrix!$A:$A,$A7,Matrix!P:P,"Light")>0,"Light",IF(COUNTIFS(Matrix!$A:$A,$A7,Matrix!P:P,"Low")>0,"Low","")))))) | O7: =IF($A7="","",COUNTIF($B7:$M7,"Very Heavy")) -> 1
A8: =IF(People!$A5="","",People!$A5) -> Hana Sato | B8: =IF($A8="","",IF(COUNTIFS(Matrix!$A:$A,$A8,Matrix!E:E,"Very Heavy")>0,"Very Heavy",IF(COUNTIFS(Matrix!$A:$A,$A8,Matrix!E:E,"Heavy")>0,"Heavy",IF(COUNTIFS(Matrix!$A:$A,$A8,Matrix!E:E,"Medium")>0,"Medium",IF(COUNTIFS(Matrix!$A:$A,$A8,Matrix!E:E,"Light")>0,"Light",IF(COUNTIFS(Matrix!$A:$A,$A8,Matrix!E:E,"Low")>0,"Low","")))))) -> Medium | C8: =IF($A8="","",IF(COUNTIFS(Matrix!$A:$A,$A8,Matrix!F:F,"Very Heavy")>0,"Very Heavy",IF(COUNTIFS(Matrix!$A:$A,$A8,Matrix!F:F,"Heavy")>0,"Heavy",IF(COUNTIFS(Matrix!$A:$A,$A8,Matrix!F:F,"Medium")>0,"Medium",IF(COUNTIFS(Matrix!$A:$A,$A8,Matrix!F:F,"Light")>0,"Light",IF(COUNTIFS(Matrix!$A:$A,$A8,Matrix!F:F,"Low")>0,"Low","")))))) -> Medium | D8: =IF($A8="","",IF(COUNTIFS(Matrix!$A:$A,$A8,Matrix!G:G,"Very Heavy")>0,"Very Heavy",IF(COUNTIFS(Matrix!$A:$A,$A8,Matrix!G:G,"Heavy")>0,"Heavy",IF(COUNTIFS(Matrix!$A:$A,$A8,Matrix!G:G,"Medium")>0,"Medium",IF(COUNTIFS(Matrix!$A:$A,$A8,Matrix!G:G,"Light")>0,"Light",IF(COUNTIFS(Matrix!$A:$A,$A8,Matrix!G:G,"Low")>0,"Low","")))))) -> Medium | E8: =IF($A8="","",IF(COUNTIFS(Matrix!$A:$A,$A8,Matrix!H:H,"Very Heavy")>0,"Very Heavy",IF(COUNTIFS(Matrix!$A:$A,$A8,Matrix!H:H,"Heavy")>0,"Heavy",IF(COUNTIFS(Matrix!$A:$A,$A8,Matrix!H:H,"Medium")>0,"Medium",IF(COUNTIFS(Matrix!$A:$A,$A8,Matrix!H:H,"Light")>0,"Light",IF(COUNTIFS(Matrix!$A:$A,$A8,Matrix!H:H,"Low")>0,"Low","")))))) -> Heavy | F8: =IF($A8="","",IF(COUNTIFS(Matrix!$A:$A,$A8,Matrix!I:I,"Very Heavy")>0,"Very Heavy",IF(COUNTIFS(Matrix!$A:$A,$A8,Matrix!I:I,"Heavy")>0,"Heavy",IF(COUNTIFS(Matrix!$A:$A,$A8,Matrix!I:I,"Medium")>0,"Medium",IF(COUNTIFS(Matrix!$A:$A,$A8,Matrix!I:I,"Light")>0,"Light",IF(COUNTIFS(Matrix!$A:$A,$A8,Matrix!I:I,"Low")>0,"Low","")))))) | G8: =IF($A8="","",IF(COUNTIFS(Matrix!$A:$A,$A8,Matrix!J:J,"Very Heavy")>0,"Very Heavy",IF(COUNTIFS(Matrix!$A:$A,$A8,Matrix!J:J,"Heavy")>0,"Heavy",IF(COUNTIFS(Matrix!$A:$A,$A8,Matrix!J:J,"Medium")>0,"Medium",IF(COUNTIFS(Matrix!$A:$A,$A8,Matrix!J:J,"Light")>0,"Light",IF(COUNTIFS(Matrix!$A:$A,$A8,Matrix!J:J,"Low")>0,"Low","")))))) | H8: =IF($A8="","",IF(COUNTIFS(Matrix!$A:$A,$A8,Matrix!K:K,"Very Heavy")>0,"Very Heavy",IF(COUNTIFS(Matrix!$A:$A,$A8,Matrix!K:K,"Heavy")>0,"Heavy",IF(COUNTIFS(Matrix!$A:$A,$A8,Matrix!K:K,"Medium")>0,"Medium",IF(COUNTIFS(Matrix!$A:$A,$A8,Matrix!K:K,"Light")>0,"Light",IF(COUNTIFS(Matrix!$A:$A,$A8,Matrix!K:K,"Low")>0,"Low","")))))) | I8: =IF($A8="","",IF(COUNTIFS(Matrix!$A:$A,$A8,Matrix!L:L,"Very Heavy")>0,"Very Heavy",IF(COUNTIFS(Matrix!$A:$A,$A8,Matrix!L:L,"Heavy")>0,"Heavy",IF(COUNTIFS(Matrix!$A:$A,$A8,Matrix!L:L,"Medium")>0,"Medium",IF(COUNTIFS(Matrix!$A:$A,$A8,Matrix!L:L,"Light")>0,"Light",IF(COUNTIFS(Matrix!$A:$A,$A8,Matrix!L:L,"Low")>0,"Low","")))))) | J8: =IF($A8="","",IF(COUNTIFS(Matrix!$A:$A,$A8,Matrix!M:M,"Very Heavy")>0,"Very Heavy",IF(COUNTIFS(Matrix!$A:$A,$A8,Matrix!M:M,"Heavy")>0,"Heavy",IF(COUNTIFS(Matrix!$A:$A,$A8,Matrix!M:M,"Medium")>0,"Medium",IF(COUNTIFS(Matrix!$A:$A,$A8,Matrix!M:M,"Light")>0,"Light",IF(COUNTIFS(Matrix!$A:$A,$A8,Matrix!M:M,"Low")>0,"Low","")))))) | K8: =IF($A8="","",IF(COUNTIFS(Matrix!$A:$A,$A8,Matrix!N:N,"Very Heavy")>0,"Very Heavy",IF(COUNTIFS(Matrix!$A:$A,$A8,Matrix!N:N,"Heavy")>0,"Heavy",IF(COUNTIFS(Matrix!$A:$A,$A8,Matrix!N:N,"Medium")>0,"Medium",IF(COUNTIFS(Matrix!$A:$A,$A8,Matrix!N:N,"Light")>0,"Light",IF(COUNTIFS(Matrix!$A:$A,$A8,Matrix!N:N,"Low")>0,"Low","")))))) | L8: =IF($A8="","",IF(COUNTIFS(Matrix!$A:$A,$A8,Matrix!O:O,"Very Heavy")>0,"Very Heavy",IF(COUNTIFS(Matrix!$A:$A,$A8,Matrix!O:O,"Heavy")>0,"Heavy",IF(COUNTIFS(Matrix!$A:$A,$A8,Matrix!O:O,"Medium")>0,"Medium",IF(COUNTIFS(Matrix!$A:$A,$A8,Matrix!O:O,"Light")>0,"Light",IF(COUNTIFS(Matrix!$A:$A,$A8,Matrix!O:O,"Low")>0,"Low","")))))) | M8: =IF($A8="","",IF(COUNTIFS(Matrix!$A:$A,$A8,Matrix!P:P,"Very Heavy")>0,"Very Heavy",IF(COUNTIFS(Matrix!$A:$A,$A8,Matrix!P:P,"Heavy")>0,"Heavy",IF(COUNTIFS(Matrix!$A:$A,$A8,Matrix!P:P,"Medium")>0,"Medium",IF(COUNTIFS(Matrix!$A:$A,$A8,Matrix!P:P,"Light")>0,"Light",IF(COUNTIFS(Matrix!$A:$A,$A8,Matrix!P:P,"Low")>0,"Low","")))))) | O8: =IF($A8="","",COUNTIF($B8:$M8,"Very Heavy")) -> 0
A9: =IF(People!$A6="","",People!$A6) -> Theo Grant | B9: =IF($A9="","",IF(COUNTIFS(Matrix!$A:$A,$A9,Matrix!E:E,"Very Heavy")>0,"Very Heavy",IF(COUNTIFS(Matrix!$A:$A,$A9,Matrix!E:E,"Heavy")>0,"Heavy",IF(COUNTIFS(Matrix!$A:$A,$A9,Matrix!E:E,"Medium")>0,"Medium",IF(COUNTIFS(Matrix!$A:$A,$A9,Matrix!E:E,"Light")>0,"Light",IF(COUNTIFS(Matrix!$A:$A,$A9,Matrix!E:E,"Low")>0,"Low","")))))) -> Medium | C9: =IF($A9="","",IF(COUNTIFS(Matrix!$A:$A,$A9,Matrix!F:F,"Very Heavy")>0,"Very Heavy",IF(COUNTIFS(Matrix!$A:$A,$A9,Matrix!F:F,"Heavy")>0,"Heavy",IF(COUNTIFS(Matrix!$A:$A,$A9,Matrix!F:F,"Medium")>0,"Medium",IF(COUNTIFS(Matrix!$A:$A,$A9,Matrix!F:F,"Light")>0,"Light",IF(COUNTIFS(Matrix!$A:$A,$A9,Matrix!F:F,"Low")>0,"Low","")))))) -> Heavy | D9: =IF($A9="","",IF(COUNTIFS(Matrix!$A:$A,$A9,Matrix!G:G,"Very Heavy")>0,"Very Heavy",IF(COUNTIFS(Matrix!$A:$A,$A9,Matrix!G:G,"Heavy")>0,"Heavy",IF(COUNTIFS(Matrix!$A:$A,$A9,Matrix!G:G,"Medium")>0,"Medium",IF(COUNTIFS(Matrix!$A:$A,$A9,Matrix!G:G,"Light")>0,"Light",IF(COUNTIFS(Matrix!$A:$A,$A9,Matrix!G:G,"Low")>0,"Low","")))))) -> Very Heavy | E9: =IF($A9="","",IF(COUNTIFS(Matrix!$A:$A,$A9,Matrix!H:H,"Very Heavy")>0,"Very Heavy",IF(COUNTIFS(Matrix!$A:$A,$A9,Matrix!H:H,"Heavy")>0,"Heavy",IF(COUNTIFS(Matrix!$A:$A,$A9,Matrix!H:H,"Medium")>0,"Medium",IF(COUNTIFS(Matrix!$A:$A,$A9,Matrix!H:H,"Light")>0,"Light",IF(COUNTIFS(Matrix!$A:$A,$A9,Matrix!H:H,"Low")>0,"Low","")))))) -> Heavy | F9: =IF($A9="","",IF(COUNTIFS(Matrix!$A:$A,$A9,Matrix!I:I,"Very Heavy")>0,"Very Heavy",IF(COUNTIFS(Matrix!$A:$A,$A9,Matrix!I:I,"Heavy")>0,"Heavy",IF(COUNTIFS(Matrix!$A:$A,$A9,Matrix!I:I,"Medium")>0,"Medium",IF(COUNTIFS(Matrix!$A:$A,$A9,Matrix!I:I,"Light")>0,"Light",IF(COUNTIFS(Matrix!$A:$A,$A9,Matrix!I:I,"Low")>0,"Low","")))))) | G9: =IF($A9="","",IF(COUNTIFS(Matrix!$A:$A,$A9,Matrix!J:J,"Very Heavy")>0,"Very Heavy",IF(COUNTIFS(Matrix!$A:$A,$A9,Matrix!J:J,"Heavy")>0,"Heavy",IF(COUNTIFS(Matrix!$A:$A,$A9,Matrix!J:J,"Medium")>0,"Medium",IF(COUNTIFS(Matrix!$A:$A,$A9,Matrix!J:J,"Light")>0,"Light",IF(COUNTIFS(Matrix!$A:$A,$A9,Matrix!J:J,"Low")>0,"Low","")))))) | H9: =IF($A9="","",IF(COUNTIFS(Matrix!$A:$A,$A9,Matrix!K:K,"Very Heavy")>0,"Very Heavy",IF(COUNTIFS(Matrix!$A:$A,$A9,Matrix!K:K,"Heavy")>0,"Heavy",IF(COUNTIFS(Matrix!$A:$A,$A9,Matrix!K:K,"Medium")>0,"Medium",IF(COUNTIFS(Matrix!$A:$A,$A9,Matrix!K:K,"Light")>0,"Light",IF(COUNTIFS(Matrix!$A:$A,$A9,Matrix!K:K,"Low")>0,"Low","")))))) | I9: =IF($A9="","",IF(COUNTIFS(Matrix!$A:$A,$A9,Matrix!L:L,"Very Heavy")>0,"Very Heavy",IF(COUNTIFS(Matrix!$A:$A,$A9,Matrix!L:L,"Heavy")>0,"Heavy",IF(COUNTIFS(Matrix!$A:$A,$A9,Matrix!L:L,"Medium")>0,"Medium",IF(COUNTIFS(Matrix!$A:$A,$A9,Matrix!L:L,"Light")>0,"Light",IF(COUNTIFS(Matrix!$A:$A,$A9,Matrix!L:L,"Low")>0,"Low","")))))) | J9: =IF($A9="","",IF(COUNTIFS(Matrix!$A:$A,$A9,Matrix!M:M,"Very Heavy")>0,"Very Heavy",IF(COUNTIFS(Matrix!$A:$A,$A9,Matrix!M:M,"Heavy")>0,"Heavy",IF(COUNTIFS(Matrix!$A:$A,$A9,Matrix!M:M,"Medium")>0,"Medium",IF(COUNTIFS(Matrix!$A:$A,$A9,Matrix!M:M,"Light")>0,"Light",IF(COUNTIFS(Matrix!$A:$A,$A9,Matrix!M:M,"Low")>0,"Low","")))))) | K9: =IF($A9="","",IF(COUNTIFS(Matrix!$A:$A,$A9,Matrix!N:N,"Very Heavy")>0,"Very Heavy",IF(COUNTIFS(Matrix!$A:$A,$A9,Matrix!N:N,"Heavy")>0,"Heavy",IF(COUNTIFS(Matrix!$A:$A,$A9,Matrix!N:N,"Medium")>0,"Medium",IF(COUNTIFS(Matrix!$A:$A,$A9,Matrix!N:N,"Light")>0,"Light",IF(COUNTIFS(Matrix!$A:$A,$A9,Matrix!N:N,"Low")>0,"Low","")))))) | L9: =IF($A9="","",IF(COUNTIFS(Matrix!$A:$A,$A9,Matrix!O:O,"Very Heavy")>0,"Very Heavy",IF(COUNTIFS(Matrix!$A:$A,$A9,Matrix!O:O,"Heavy")>0,"Heavy",IF(COUNTIFS(Matrix!$A:$A,$A9,Matrix!O:O,"Medium")>0,"Medium",IF(COUNTIFS(Matrix!$A:$A,$A9,Matrix!O:O,"Light")>0,"Light",IF(COUNTIFS(Matrix!$A:$A,$A9,Matrix!O:O,"Low")>0,"Low","")))))) | M9: =IF($A9="","",IF(COUNTIFS(Matrix!$A:$A,$A9,Matrix!P:P,"Very Heavy")>0,"Very Heavy",IF(COUNTIFS(Matrix!$A:$A,$A9,Matrix!P:P,"Heavy")>0,"Heavy",IF(COUNTIFS(Matrix!$A:$A,$A9,Matrix!P:P,"Medium")>0,"Medium",IF(COUNTIFS(Matrix!$A:$A,$A9,Matrix!P:P,"Light")>0,"Light",IF(COUNTIFS(Matrix!$A:$A,$A9,Matrix!P:P,"Low")>0,"Low","")))))) | O9: =IF($A9="","",COUNTIF($B9:$M9,"Very Heavy")) -> 1
A10: =IF(People!$A7="","",People!$A7) -> Grace Liu | B10: =IF($A10="","",IF(COUNTIFS(Matrix!$A:$A,$A10,Matrix!E:E,"Very Heavy")>0,"Very Heavy",IF(COUNTIFS(Matrix!$A:$A,$A10,Matrix!E:E,"Heavy")>0,"Heavy",IF(COUNTIFS(Matrix!$A:$A,$A10,Matrix!E:E,"Medium")>0,"Medium",IF(COUNTIFS(Matrix!$A:$A,$A10,Matrix!E:E,"Light")>0,"Light",IF(COUNTIFS(Matrix!$A:$A,$A10,Matrix!E:E,"Low")>0,"Low","")))))) -> Heavy | C10: =IF($A10="","",IF(COUNTIFS(Matrix!$A:$A,$A10,Matrix!F:F,"Very Heavy")>0,"Very Heavy",IF(COUNTIFS(Matrix!$A:$A,$A10,Matrix!F:F,"Heavy")>0,"Heavy",IF(COUNTIFS(Matrix!$A:$A,$A10,Matrix!F:F,"Medium")>0,"Medium",IF(COUNTIFS(Matrix!$A:$A,$A10,Matrix!F:F,"Light")>0,"Light",IF(COUNTIFS(Matrix!$A:$A,$A10,Matrix!F:F,"Low")>0,"Low","")))))) -> Medium | D10: =IF($A10="","",IF(COUNTIFS(Matrix!$A:$A,$A10,Matrix!G:G,"Very Heavy")>0,"Very Heavy",IF(COUNTIFS(Matrix!$A:$A,$A10,Matrix!G:G,"Heavy")>0,"Heavy",IF(COUNTIFS(Matrix!$A:$A,$A10,Matrix!G:G,"Medium")>0,"Medium",IF(COUNTIFS(Matrix!$A:$A,$A10,Matrix!G:G,"Light")>0,"Light",IF(COUNTIFS(Matrix!$A:$A,$A10,Matrix!G:G,"Low")>0,"Low","")))))) -> Light | E10: =IF($A10="","",IF(COUNTIFS(Matrix!$A:$A,$A10,Matrix!H:H,"Very Heavy")>0,"Very Heavy",IF(COUNTIFS(Matrix!$A:$A,$A10,Matrix!H:H,"Heavy")>0,"Heavy",IF(COUNTIFS(Matrix!$A:$A,$A10,Matrix!H:H,"Medium")>0,"Medium",IF(COUNTIFS(Matrix!$A:$A,$A10,Matrix!H:H,"Light")>0,"Light",IF(COUNTIFS(Matrix!$A:$A,$A10,Matrix!H:H,"Low")>0,"Low","")))))) -> Low | F10: =IF($A10="","",IF(COUNTIFS(Matrix!$A:$A,$A10,Matrix!I:I,"Very Heavy")>0,"Very Heavy",IF(COUNTIFS(Matrix!$A:$A,$A10,Matrix!I:I,"Heavy")>0,"Heavy",IF(COUNTIFS(Matrix!$A:$A,$A10,Matrix!I:I,"Medium")>0,"Medium",IF(COUNTIFS(Matrix!$A:$A,$A10,Matrix!I:I,"Light")>0,"Light",IF(COUNTIFS(Matrix!$A:$A,$A10,Matrix!I:I,"Low")>0,"Low","")))))) | G10: =IF($A10="","",IF(COUNTIFS(Matrix!$A:$A,$A10,Matrix!J:J,"Very Heavy")>0,"Very Heavy",IF(COUNTIFS(Matrix!$A:$A,$A10,Matrix!J:J,"Heavy")>0,"Heavy",IF(COUNTIFS(Matrix!$A:$A,$A10,Matrix!J:J,"Medium")>0,"Medium",IF(COUNTIFS(Matrix!$A:$A,$A10,Matrix!J:J,"Light")>0,"Light",IF(COUNTIFS(Matrix!$A:$A,$A10,Matrix!J:J,"Low")>0,"Low","")))))) | H10: =IF($A10="","",IF(COUNTIFS(Matrix!$A:$A,$A10,Matrix!K:K,"Very Heavy")>0,"Very Heavy",IF(COUNTIFS(Matrix!$A:$A,$A10,Matrix!K:K,"Heavy")>0,"Heavy",IF(COUNTIFS(Matrix!$A:$A,$A10,Matrix!K:K,"Medium")>0,"Medium",IF(COUNTIFS(Matrix!$A:$A,$A10,Matrix!K:K,"Light")>0,"Light",IF(COUNTIFS(Matrix!$A:$A,$A10,Matrix!K:K,"Low")>0,"Low","")))))) | I10: =IF($A10="","",IF(COUNTIFS(Matrix!$A:$A,$A10,Matrix!L:L,"Very Heavy")>0,"Very Heavy",IF(COUNTIFS(Matrix!$A:$A,$A10,Matrix!L:L,"Heavy")>0,"Heavy",IF(COUNTIFS(Matrix!$A:$A,$A10,Matrix!L:L,"Medium")>0,"Medium",IF(COUNTIFS(Matrix!$A:$A,$A10,Matrix!L:L,"Light")>0,"Light",IF(COUNTIFS(Matrix!$A:$A,$A10,Matrix!L:L,"Low")>0,"Low","")))))) | J10: =IF($A10="","",IF(COUNTIFS(Matrix!$A:$A,$A10,Matrix!M:M,"Very Heavy")>0,"Very Heavy",IF(COUNTIFS(Matrix!$A:$A,$A10,Matrix!M:M,"Heavy")>0,"Heavy",IF(COUNTIFS(Matrix!$A:$A,$A10,Matrix!M:M,"Medium")>0,"Medium",IF(COUNTIFS(Matrix!$A:$A,$A10,Matrix!M:M,"Light")>0,"Light",IF(COUNTIFS(Matrix!$A:$A,$A10,Matrix!M:M,"Low")>0,"Low","")))))) | K10: =IF($A10="","",IF(COUNTIFS(Matrix!$A:$A,$A10,Matrix!N:N,"Very Heavy")>0,"Very Heavy",IF(COUNTIFS(Matrix!$A:$A,$A10,Matrix!N:N,"Heavy")>0,"Heavy",IF(COUNTIFS(Matrix!$A:$A,$A10,Matrix!N:N,"Medium")>0,"Medium",IF(COUNTIFS(Matrix!$A:$A,$A10,Matrix!N:N,"Light")>0,"Light",IF(COUNTIFS(Matrix!$A:$A,$A10,Matrix!N:N,"Low")>0,"Low","")))))) | L10: =IF($A10="","",IF(COUNTIFS(Matrix!$A:$A,$A10,Matrix!O:O,"Very Heavy")>0,"Very Heavy",IF(COUNTIFS(Matrix!$A:$A,$A10,Matrix!O:O,"Heavy")>0,"Heavy",IF(COUNTIFS(Matrix!$A:$A,$A10,Matrix!O:O,"Medium")>0,"Medium",IF(COUNTIFS(Matrix!$A:$A,$A10,Matrix!O:O,"Light")>0,"Light",IF(COUNTIFS(Matrix!$A:$A,$A10,Matrix!O:O,"Low")>0,"Low","")))))) | M10: =IF($A10="","",IF(COUNTIFS(Matrix!$A:$A,$A10,Matrix!P:P,"Very Heavy")>0,"Very Heavy",IF(COUNTIFS(Matrix!$A:$A,$A10,Matrix!P:P,"Heavy")>0,"Heavy",IF(COUNTIFS(Matrix!$A:$A,$A10,Matrix!P:P,"Medium")>0,"Medium",IF(COUNTIFS(Matrix!$A:$A,$A10,Matrix!P:P,"Light")>0,"Light",IF(COUNTIFS(Matrix!$A:$A,$A10,Matrix!P:P,"Low")>0,"Low","")))))) | O10: =IF($A10="","",COUNTIF($B10:$M10,"Very Heavy")) -> 0
A11: =IF(People!$A8="","",People!$A8) | B11: =IF($A11="","",IF(COUNTIFS(Matrix!$A:$A,$A11,Matrix!E:E,"Very Heavy")>0,"Very Heavy",IF(COUNTIFS(Matrix!$A:$A,$A11,Matrix!E:E,"Heavy")>0,"Heavy",IF(COUNTIFS(Matrix!$A:$A,$A11,Matrix!E:E,"Medium")>0,"Medium",IF(COUNTIFS(Matrix!$A:$A,$A11,Matrix!E:E,"Light")>0,"Light",IF(COUNTIFS(Matrix!$A:$A,$A11,Matrix!E:E,"Low")>0,"Low","")))))) | C11: =IF($A11="","",IF(COUNTIFS(Matrix!$A:$A,$A11,Matrix!F:F,"Very Heavy")>0,"Very Heavy",IF(COUNTIFS(Matrix!$A:$A,$A11,Matrix!F:F,"Heavy")>0,"Heavy",IF(COUNTIFS(Matrix!$A:$A,$A11,Matrix!F:F,"Medium")>0,"Medium",IF(COUNTIFS(Matrix!$A:$A,$A11,Matrix!F:F,"Light")>0,"Light",IF(COUNTIFS(Matrix!$A:$A,$A11,Matrix!F:F,"Low")>0,"Low","")))))) | D11: =IF($A11="","",IF(COUNTIFS(Matrix!$A:$A,$A11,Matrix!G:G,"Very Heavy")>0,"Very Heavy",IF(COUNTIFS(Matrix!$A:$A,$A11,Matrix!G:G,"Heavy")>0,"Heavy",IF(COUNTIFS(Matrix!$A:$A,$A11,Matrix!G:G,"Medium")>0,"Medium",IF(COUNTIFS(Matrix!$A:$A,$A11,Matrix!G:G,"Light")>0,"Light",IF(COUNTIFS(Matrix!$A:$A,$A11,Matrix!G:G,"Low")>0,"Low","")))))) | E11: =IF($A11="","",IF(COUNTIFS(Matrix!$A:$A,$A11,Matrix!H:H,"Very Heavy")>0,"Very Heavy",IF(COUNTIFS(Matrix!$A:$A,$A11,Matrix!H:H,"Heavy")>0,"Heavy",IF(COUNTIFS(Matrix!$A:$A,$A11,Matrix!H:H,"Medium")>0,"Medium",IF(COUNTIFS(Matrix!$A:$A,$A11,Matrix!H:H,"Light")>0,"Light",IF(COUNTIFS(Matrix!$A:$A,$A11,Matrix!H:H,"Low")>0,"Low","")))))) | F11: =IF($A11="","",IF(COUNTIFS(Matrix!$A:$A,$A11,Matrix!I:I,"Very Heavy")>0,"Very Heavy",IF(COUNTIFS(Matrix!$A:$A,$A11,Matrix!I:I,"Heavy")>0,"Heavy",IF(COUNTIFS(Matrix!$A:$A,$A11,Matrix!I:I,"Medium")>0,"Medium",IF(COUNTIFS(Matrix!$A:$A,$A11,Matrix!I:I,"Light")>0,"Light",IF(COUNTIFS(Matrix!$A:$A,$A11,Matrix!I:I,"Low")>0,"Low","")))))) | G11: =IF($A11="","",IF(COUNTIFS(Matrix!$A:$A,$A11,Matrix!J:J,"Very Heavy")>0,"Very Heavy",IF(COUNTIFS(Matrix!$A:$A,$A11,Matrix!J:J,"Heavy")>0,"Heavy",IF(COUNTIFS(Matrix!$A:$A,$A11,Matrix!J:J,"Medium")>0,"Medium",IF(COUNTIFS(Matrix!$A:$A,$A11,Matrix!J:J,"Light")>0,"Light",IF(COUNTIFS(Matrix!$A:$A,$A11,Matrix!J:J,"Low")>0,"Low","")))))) | H11: =IF($A11="","",IF(COUNTIFS(Matrix!$A:$A,$A11,Matrix!K:K,"Very Heavy")>0,"Very Heavy",IF(COUNTIFS(Matrix!$A:$A,$A11,Matrix!K:K,"Heavy")>0,"Heavy",IF(COUNTIFS(Matrix!$A:$A,$A11,Matrix!K:K,"Medium")>0,"Medium",IF(COUNTIFS(Matrix!$A:$A,$A11,Matrix!K:K,"Light")>0,"Light",IF(COUNTIFS(Matrix!$A:$A,$A11,Matrix!K:K,"Low")>0,"Low","")))))) | I11: =IF($A11="","",IF(COUNTIFS(Matrix!$A:$A,$A11,Matrix!L:L,"Very Heavy")>0,"Very Heavy",IF(COUNTIFS(Matrix!$A:$A,$A11,Matrix!L:L,"Heavy")>0,"Heavy",IF(COUNTIFS(Matrix!$A:$A,$A11,Matrix!L:L,"Medium")>0,"Medium",IF(COUNTIFS(Matrix!$A:$A,$A11,Matrix!L:L,"Light")>0,"Light",IF(COUNTIFS(Matrix!$A:$A,$A11,Matrix!L:L,"Low")>0,"Low","")))))) | J11: =IF($A11="","",IF(COUNTIFS(Matrix!$A:$A,$A11,Matrix!M:M,"Very Heavy")>0,"Very Heavy",IF(COUNTIFS(Matrix!$A:$A,$A11,Matrix!M:M,"Heavy")>0,"Heavy",IF(COUNTIFS(Matrix!$A:$A,$A11,Matrix!M:M,"Medium")>0,"Medium",IF(COUNTIFS(Matrix!$A:$A,$A11,Matrix!M:M,"Light")>0,"Light",IF(COUNTIFS(Matrix!$A:$A,$A11,Matrix!M:M,"Low")>0,"Low","")))))) | K11: =IF($A11="","",IF(COUNTIFS(Matrix!$A:$A,$A11,Matrix!N:N,"Very Heavy")>0,"Very Heavy",IF(COUNTIFS(Matrix!$A:$A,$A11,Matrix!N:N,"Heavy")>0,"Heavy",IF(COUNTIFS(Matrix!$A:$A,$A11,Matrix!N:N,"Medium")>0,"Medium",IF(COUNTIFS(Matrix!$A:$A,$A11,Matrix!N:N,"Light")>0,"Light",IF(COUNTIFS(Matrix!$A:$A,$A11,Matrix!N:N,"Low")>0,"Low","")))))) | L11: =IF($A11="","",IF(COUNTIFS(Matrix!$A:$A,$A11,Matrix!O:O,"Very Heavy")>0,"Very Heavy",IF(COUNTIFS(Matrix!$A:$A,$A11,Matrix!O:O,"Heavy")>0,"Heavy",IF(COUNTIFS(Matrix!$A:$A,$A11,Matrix!O:O,"Medium")>0,"Medium",IF(COUNTIFS(Matrix!$A:$A,$A11,Matrix!O:O,"Light")>0,"Light",IF(COUNTIFS(Matrix!$A:$A,$A11,Matrix!O:O,"Low")>0,"Low","")))))) | M11: =IF($A11="","",IF(COUNTIFS(Matrix!$A:$A,$A11,Matrix!P:P,"Very Heavy")>0,"Very Heavy",IF(COUNTIFS(Matrix!$A:$A,$A11,Matrix!P:P,"Heavy")>0,"Heavy",IF(COUNTIFS(Matrix!$A:$A,$A11,Matrix!P:P,"Medium")>0,"Medium",IF(COUNTIFS(Matrix!$A:$A,$A11,Matrix!P:P,"Light")>0,"Light",IF(COUNTIFS(Matrix!$A:$A,$A11,Matrix!P:P,"Low")>0,"Low","")))))) | O11: =IF($A11="","",COUNTIF($B11:$M11,"Very Heavy"))
A12: =IF(People!$A9="","",People!$A9) | B12: =IF($A12="","",IF(COUNTIFS(Matrix!$A:$A,$A12,Matrix!E:E,"Very Heavy")>0,"Very Heavy",IF(COUNTIFS(Matrix!$A:$A,$A12,Matrix!E:E,"Heavy")>0,"Heavy",IF(COUNTIFS(Matrix!$A:$A,$A12,Matrix!E:E,"Medium")>0,"Medium",IF(COUNTIFS(Matrix!$A:$A,$A12,Matrix!E:E,"Light")>0,"Light",IF(COUNTIFS(Matrix!$A:$A,$A12,Matrix!E:E,"Low")>0,"Low","")))))) | C12: =IF($A12="","",IF(COUNTIFS(Matrix!$A:$A,$A12,Matrix!F:F,"Very Heavy")>0,"Very Heavy",IF(COUNTIFS(Matrix!$A:$A,$A12,Matrix!F:F,"Heavy")>0,"Heavy",IF(COUNTIFS(Matrix!$A:$A,$A12,Matrix!F:F,"Medium")>0,"Medium",IF(COUNTIFS(Matrix!$A:$A,$A12,Matrix!F:F,"Light")>0,"Light",IF(COUNTIFS(Matrix!$A:$A,$A12,Matrix!F:F,"Low")>0,"Low","")))))) | D12: =IF($A12="","",IF(COUNTIFS(Matrix!$A:$A,$A12,Matrix!G:G,"Very Heavy")>0,"Very Heavy",IF(COUNTIFS(Matrix!$A:$A,$A12,Matrix!G:G,"Heavy")>0,"Heavy",IF(COUNTIFS(Matrix!$A:$A,$A12,Matrix!G:G,"Medium")>0,"Medium",IF(COUNTIFS(Matrix!$A:$A,$A12,Matrix!G:G,"Light")>0,"Light",IF(COUNTIFS(Matrix!$A:$A,$A12,Matrix!G:G,"Low")>0,"Low","")))))) | E12: =IF($A12="","",IF(COUNTIFS(Matrix!$A:$A,$A12,Matrix!H:H,"Very Heavy")>0,"Very Heavy",IF(COUNTIFS(Matrix!$A:$A,$A12,Matrix!H:H,"Heavy")>0,"Heavy",IF(COUNTIFS(Matrix!$A:$A,$A12,Matrix!H:H,"Medium")>0,"Medium",IF(COUNTIFS(Matrix!$A:$A,$A12,Matrix!H:H,"Light")>0,"Light",IF(COUNTIFS(Matrix!$A:$A,$A12,Matrix!H:H,"Low")>0,"Low","")))))) | F12: =IF($A12="","",IF(COUNTIFS(Matrix!$A:$A,$A12,Matrix!I:I,"Very Heavy")>0,"Very Heavy",IF(COUNTIFS(Matrix!$A:$A,$A12,Matrix!I:I,"Heavy")>0,"Heavy",IF(COUNTIFS(Matrix!$A:$A,$A12,Matrix!I:I,"Medium")>0,"Medium",IF(COUNTIFS(Matrix!$A:$A,$A12,Matrix!I:I,"Light")>0,"Light",IF(COUNTIFS(Matrix!$A:$A,$A12,Matrix!I:I,"Low")>0,"Low","")))))) | G12: =IF($A12="","",IF(COUNTIFS(Matrix!$A:$A,$A12,Matrix!J:J,"Very Heavy")>0,"Very Heavy",IF(COUNTIFS(Matrix!$A:$A,$A12,Matrix!J:J,"Heavy")>0,"Heavy",IF(COUNTIFS(Matrix!$A:$A,$A12,Matrix!J:J,"Medium")>0,"Medium",IF(COUNTIFS(Matrix!$A:$A,$A12,Matrix!J:J,"Light")>0,"Light",IF(COUNTIFS(Matrix!$A:$A,$A12,Matrix!J:J,"Low")>0,"Low","")))))) | H12: =IF($A12="","",IF(COUNTIFS(Matrix!$A:$A,$A12,Matrix!K:K,"Very Heavy")>0,"Very Heavy",IF(COUNTIFS(Matrix!$A:$A,$A12,Matrix!K:K,"Heavy")>0,"Heavy",IF(COUNTIFS(Matrix!$A:$A,$A12,Matrix!K:K,"Medium")>0,"Medium",IF(COUNTIFS(Matrix!$A:$A,$A12,Matrix!K:K,"Light")>0,"Light",IF(COUNTIFS(Matrix!$A:$A,$A12,Matrix!K:K,"Low")>0,"Low","")))))) | I12: =IF($A12="","",IF(COUNTIFS(Matrix!$A:$A,$A12,Matrix!L:L,"Very Heavy")>0,"Very Heavy",IF(COUNTIFS(Matrix!$A:$A,$A12,Matrix!L:L,"Heavy")>0,"Heavy",IF(COUNTIFS(Matrix!$A:$A,$A12,Matrix!L:L,"Medium")>0,"Medium",IF(COUNTIFS(Matrix!$A:$A,$A12,Matrix!L:L,"Light")>0,"Light",IF(COUNTIFS(Matrix!$A:$A,$A12,Matrix!L:L,"Low")>0,"Low","")))))) | J12: =IF($A12="","",IF(COUNTIFS(Matrix!$A:$A,$A12,Matrix!M:M,"Very Heavy")>0,"Very Heavy",IF(COUNTIFS(Matrix!$A:$A,$A12,Matrix!M:M,"Heavy")>0,"Heavy",IF(COUNTIFS(Matrix!$A:$A,$A12,Matrix!M:M,"Medium")>0,"Medium",IF(COUNTIFS(Matrix!$A:$A,$A12,Matrix!M:M,"Light")>0,"Light",IF(COUNTIFS(Matrix!$A:$A,$A12,Matrix!M:M,"Low")>0,"Low","")))))) | K12: =IF($A12="","",IF(COUNTIFS(Matrix!$A:$A,$A12,Matrix!N:N,"Very Heavy")>0,"Very Heavy",IF(COUNTIFS(Matrix!$A:$A,$A12,Matrix!N:N,"Heavy")>0,"Heavy",IF(COUNTIFS(Matrix!$A:$A,$A12,Matrix!N:N,"Medium")>0,"Medium",IF(COUNTIFS(Matrix!$A:$A,$A12,Matrix!N:N,"Light")>0,"Light",IF(COUNTIFS(Matrix!$A:$A,$A12,Matrix!N:N,"Low")>0,"Low","")))))) | L12: =IF($A12="","",IF(COUNTIFS(Matrix!$A:$A,$A12,Matrix!O:O,"Very Heavy")>0,"Very Heavy",IF(COUNTIFS(Matrix!$A:$A,$A12,Matrix!O:O,"Heavy")>0,"Heavy",IF(COUNTIFS(Matrix!$A:$A,$A12,Matrix!O:O,"Medium")>0,"Medium",IF(COUNTIFS(Matrix!$A:$A,$A12,Matrix!O:O,"Light")>0,"Light",IF(COUNTIFS(Matrix!$A:$A,$A12,Matrix!O:O,"Low")>0,"Low","")))))) | M12: =IF($A12="","",IF(COUNTIFS(Matrix!$A:$A,$A12,Matrix!P:P,"Very Heavy")>0,"Very Heavy",IF(COUNTIFS(Matrix!$A:$A,$A12,Matrix!P:P,"Heavy")>0,"Heavy",IF(COUNTIFS(Matrix!$A:$A,$A12,Matrix!P:P,"Medium")>0,"Medium",IF(COUNTIFS(Matrix!$A:$A,$A12,Matrix!P:P,"Light")>0,"Light",IF(COUNTIFS(Matrix!$A:$A,$A12,Matrix!P:P,"Low")>0,"Low","")))))) | O12: =IF($A12="","",COUNTIF($B12:$M12,"Very Heavy"))
A13: =IF(People!$A10="","",People!$A10) | B13: =IF($A13="","",IF(COUNTIFS(Matrix!$A:$A,$A13,Matrix!E:E,"Very Heavy")>0,"Very Heavy",IF(COUNTIFS(Matrix!$A:$A,$A13,Matrix!E:E,"Heavy")>0,"Heavy",IF(COUNTIFS(Matrix!$A:$A,$A13,Matrix!E:E,"Medium")>0,"Medium",IF(COUNTIFS(Matrix!$A:$A,$A13,Matrix!E:E,"Light")>0,"Light",IF(COUNTIFS(Matrix!$A:$A,$A13,Matrix!E:E,"Low")>0,"Low","")))))) | C13: =IF($A13="","",IF(COUNTIFS(Matrix!$A:$A,$A13,Matrix!F:F,"Very Heavy")>0,"Very Heavy",IF(COUNTIFS(Matrix!$A:$A,$A13,Matrix!F:F,"Heavy")>0,"Heavy",IF(COUNTIFS(Matrix!$A:$A,$A13,Matrix!F:F,"Medium")>0,"Medium",IF(COUNTIFS(Matrix!$A:$A,$A13,Matrix!F:F,"Light")>0,"Light",IF(COUNTIFS(Matrix!$A:$A,$A13,Matrix!F:F,"Low")>0,"Low","")))))) | D13: =IF($A13="","",IF(COUNTIFS(Matrix!$A:$A,$A13,Matrix!G:G,"Very Heavy")>0,"Very Heavy",IF(COUNTIFS(Matrix!$A:$A,$A13,Matrix!G:G,"Heavy")>0,"Heavy",IF(COUNTIFS(Matrix!$A:$A,$A13,Matrix!G:G,"Medium")>0,"Medium",IF(COUNTIFS(Matrix!$A:$A,$A13,Matrix!G:G,"Light")>0,"Light",IF(COUNTIFS(Matrix!$A:$A,$A13,Matrix!G:G,"Low")>0,"Low","")))))) | E13: =IF($A13="","",IF(COUNTIFS(Matrix!$A:$A,$A13,Matrix!H:H,"Very Heavy")>0,"Very Heavy",IF(COUNTIFS(Matrix!$A:$A,$A13,Matrix!H:H,"Heavy")>0,"Heavy",IF(COUNTIFS(Matrix!$A:$A,$A13,Matrix!H:H,"Medium")>0,"Medium",IF(COUNTIFS(Matrix!$A:$A,$A13,Matrix!H:H,"Light")>0,"Light",IF(COUNTIFS(Matrix!$A:$A,$A13,Matrix!H:H,"Low")>0,"Low","")))))) | F13: =IF($A13="","",IF(COUNTIFS(Matrix!$A:$A,$A13,Matrix!I:I,"Very Heavy")>0,"Very Heavy",IF(COUNTIFS(Matrix!$A:$A,$A13,Matrix!I:I,"Heavy")>0,"Heavy",IF(COUNTIFS(Matrix!$A:$A,$A13,Matrix!I:I,"Medium")>0,"Medium",IF(COUNTIFS(Matrix!$A:$A,$A13,Matrix!I:I,"Light")>0,"Light",IF(COUNTIFS(Matrix!$A:$A,$A13,Matrix!I:I,"Low")>0,"Low","")))))) | G13: =IF($A13="","",IF(COUNTIFS(Matrix!$A:$A,$A13,Matrix!J:J,"Very Heavy")>0,"Very Heavy",IF(COUNTIFS(Matrix!$A:$A,$A13,Matrix!J:J,"Heavy")>0,"Heavy",IF(COUNTIFS(Matrix!$A:$A,$A13,Matrix!J:J,"Medium")>0,"Medium",IF(COUNTIFS(Matrix!$A:$A,$A13,Matrix!J:J,"Light")>0,"Light",IF(COUNTIFS(Matrix!$A:$A,$A13,Matrix!J:J,"Low")>0,"Low","")))))) | H13: =IF($A13="","",IF(COUNTIFS(Matrix!$A:$A,$A13,Matrix!K:K,"Very Heavy")>0,"Very Heavy",IF(COUNTIFS(Matrix!$A:$A,$A13,Matrix!K:K,"Heavy")>0,"Heavy",IF(COUNTIFS(Matrix!$A:$A,$A13,Matrix!K:K,"Medium")>0,"Medium",IF(COUNTIFS(Matrix!$A:$A,$A13,Matrix!K:K,"Light")>0,"Light",IF(COUNTIFS(Matrix!$A:$A,$A13,Matrix!K:K,"Low")>0,"Low","")))))) | I13: =IF($A13="","",IF(COUNTIFS(Matrix!$A:$A,$A13,Matrix!L:L,"Very Heavy")>0,"Very Heavy",IF(COUNTIFS(Matrix!$A:$A,$A13,Matrix!L:L,"Heavy")>0,"Heavy",IF(COUNTIFS(Matrix!$A:$A,$A13,Matrix!L:L,"Medium")>0,"Medium",IF(COUNTIFS(Matrix!$A:$A,$A13,Matrix!L:L,"Light")>0,"Light",IF(COUNTIFS(Matrix!$A:$A,$A13,Matrix!L:L,"Low")>0,"Low","")))))) | J13: =IF($A13="","",IF(COUNTIFS(Matrix!$A:$A,$A13,Matrix!M:M,"Very Heavy")>0,"Very Heavy",IF(COUNTIFS(Matrix!$A:$A,$A13,Matrix!M:M,"Heavy")>0,"Heavy",IF(COUNTIFS(Matrix!$A:$A,$A13,Matrix!M:M,"Medium")>0,"Medium",IF(COUNTIFS(Matrix!$A:$A,$A13,Matrix!M:M,"Light")>0,"Light",IF(COUNTIFS(Matrix!$A:$A,$A13,Matrix!M:M,"Low")>0,"Low","")))))) | K13: =IF($A13="","",IF(COUNTIFS(Matrix!$A:$A,$A13,Matrix!N:N,"Very Heavy")>0,"Very Heavy",IF(COUNTIFS(Matrix!$A:$A,$A13,Matrix!N:N,"Heavy")>0,"Heavy",IF(COUNTIFS(Matrix!$A:$A,$A13,Matrix!N:N,"Medium")>0,"Medium",IF(COUNTIFS(Matrix!$A:$A,$A13,Matrix!N:N,"Light")>0,"Light",IF(COUNTIFS(Matrix!$A:$A,$A13,Matrix!N:N,"Low")>0,"Low","")))))) | L13: =IF($A13="","",IF(COUNTIFS(Matrix!$A:$A,$A13,Matrix!O:O,"Very Heavy")>0,"Very Heavy",IF(COUNTIFS(Matrix!$A:$A,$A13,Matrix!O:O,"Heavy")>0,"Heavy",IF(COUNTIFS(Matrix!$A:$A,$A13,Matrix!O:O,"Medium")>0,"Medium",IF(COUNTIFS(Matrix!$A:$A,$A13,Matrix!O:O,"Light")>0,"Light",IF(COUNTIFS(Matrix!$A:$A,$A13,Matrix!O:O,"Low")>0,"Low","")))))) | M13: =IF($A13="","",IF(COUNTIFS(Matrix!$A:$A,$A13,Matrix!P:P,"Very Heavy")>0,"Very Heavy",IF(COUNTIFS(Matrix!$A:$A,$A13,Matrix!P:P,"Heavy")>0,"Heavy",IF(COUNTIFS(Matrix!$A:$A,$A13,Matrix!P:P,"Medium")>0,"Medium",IF(COUNTIFS(Matrix!$A:$A,$A13,Matrix!P:P,"Light")>0,"Light",IF(COUNTIFS(Matrix!$A:$A,$A13,Matrix!P:P,"Low")>0,"Low","")))))) | O13: =IF($A13="","",COUNTIF($B13:$M13,"Very Heavy"))
A14: =IF(People!$A11="","",People!$A11) | B14: =IF($A14="","",IF(COUNTIFS(Matrix!$A:$A,$A14,Matrix!E:E,"Very Heavy")>0,"Very Heavy",IF(COUNTIFS(Matrix!$A:$A,$A14,Matrix!E:E,"Heavy")>0,"Heavy",IF(COUNTIFS(Matrix!$A:$A,$A14,Matrix!E:E,"Medium")>0,"Medium",IF(COUNTIFS(Matrix!$A:$A,$A14,Matrix!E:E,"Light")>0,"Light",IF(COUNTIFS(Matrix!$A:$A,$A14,Matrix!E:E,"Low")>0,"Low","")))))) | C14: =IF($A14="","",IF(COUNTIFS(Matrix!$A:$A,$A14,Matrix!F:F,"Very Heavy")>0,"Very Heavy",IF(COUNTIFS(Matrix!$A:$A,$A14,Matrix!F:F,"Heavy")>0,"Heavy",IF(COUNTIFS(Matrix!$A:$A,$A14,Matrix!F:F,"Medium")>0,"Medium",IF(COUNTIFS(Matrix!$A:$A,$A14,Matrix!F:F,"Light")>0,"Light",IF(COUNTIFS(Matrix!$A:$A,$A14,Matrix!F:F,"Low")>0,"Low","")))))) | D14: =IF($A14="","",IF(COUNTIFS(Matrix!$A:$A,$A14,Matrix!G:G,"Very Heavy")>0,"Very Heavy",IF(COUNTIFS(Matrix!$A:$A,$A14,Matrix!G:G,"Heavy")>0,"Heavy",IF(COUNTIFS(Matrix!$A:$A,$A14,Matrix!G:G,"Medium")>0,"Medium",IF(COUNTIFS(Matrix!$A:$A,$A14,Matrix!G:G,"Light")>0,"Light",IF(COUNTIFS(Matrix!$A:$A,$A14,Matrix!G:G,"Low")>0,"Low","")))))) | E14: =IF($A14="","",IF(COUNTIFS(Matrix!$A:$A,$A14,Matrix!H:H,"Very Heavy")>0,"Very Heavy",IF(COUNTIFS(Matrix!$A:$A,$A14,Matrix!H:H,"Heavy")>0,"Heavy",IF(COUNTIFS(Matrix!$A:$A,$A14,Matrix!H:H,"Medium")>0,"Medium",IF(COUNTIFS(Matrix!$A:$A,$A14,Matrix!H:H,"Light")>0,"Light",IF(COUNTIFS(Matrix!$A:$A,$A14,Matrix!H:H,"Low")>0,"Low","")))))) | F14: =IF($A14="","",IF(COUNTIFS(Matrix!$A:$A,$A14,Matrix!I:I,"Very Heavy")>0,"Very Heavy",IF(COUNTIFS(Matrix!$A:$A,$A14,Matrix!I:I,"Heavy")>0,"Heavy",IF(COUNTIFS(Matrix!$A:$A,$A14,Matrix!I:I,"Medium")>0,"Medium",IF(COUNTIFS(Matrix!$A:$A,$A14,Matrix!I:I,"Light")>0,"Light",IF(COUNTIFS(Matrix!$A:$A,$A14,Matrix!I:I,"Low")>0,"Low","")))))) | G14: =IF($A14="","",IF(COUNTIFS(Matrix!$A:$A,$A14,Matrix!J:J,"Very Heavy")>0,"Very Heavy",IF(COUNTIFS(Matrix!$A:$A,$A14,Matrix!J:J,"Heavy")>0,"Heavy",IF(COUNTIFS(Matrix!$A:$A,$A14,Matrix!J:J,"Medium")>0,"Medium",IF(COUNTIFS(Matrix!$A:$A,$A14,Matrix!J:J,"Light")>0,"Light",IF(COUNTIFS(Matrix!$A:$A,$A14,Matrix!J:J,"Low")>0,"Low","")))))) | H14: =IF($A14="","",IF(COUNTIFS(Matrix!$A:$A,$A14,Matrix!K:K,"Very Heavy")>0,"Very Heavy",IF(COUNTIFS(Matrix!$A:$A,$A14,Matrix!K:K,"Heavy")>0,"Heavy",IF(COUNTIFS(Matrix!$A:$A,$A14,Matrix!K:K,"Medium")>0,"Medium",IF(COUNTIFS(Matrix!$A:$A,$A14,Matrix!K:K,"Light")>0,"Light",IF(COUNTIFS(Matrix!$A:$A,$A14,Matrix!K:K,"Low")>0,"Low","")))))) | I14: =IF($A14="","",IF(COUNTIFS(Matrix!$A:$A,$A14,Matrix!L:L,"Very Heavy")>0,"Very Heavy",IF(COUNTIFS(Matrix!$A:$A,$A14,Matrix!L:L,"Heavy")>0,"Heavy",IF(COUNTIFS(Matrix!$A:$A,$A14,Matrix!L:L,"Medium")>0,"Medium",IF(COUNTIFS(Matrix!$A:$A,$A14,Matrix!L:L,"Light")>0,"Light",IF(COUNTIFS(Matrix!$A:$A,$A14,Matrix!L:L,"Low")>0,"Low","")))))) | J14: =IF($A14="","",IF(COUNTIFS(Matrix!$A:$A,$A14,Matrix!M:M,"Very Heavy")>0,"Very Heavy",IF(COUNTIFS(Matrix!$A:$A,$A14,Matrix!M:M,"Heavy")>0,"Heavy",IF(COUNTIFS(Matrix!$A:$A,$A14,Matrix!M:M,"Medium")>0,"Medium",IF(COUNTIFS(Matrix!$A:$A,$A14,Matrix!M:M,"Light")>0,"Light",IF(COUNTIFS(Matrix!$A:$A,$A14,Matrix!M:M,"Low")>0,"Low","")))))) | K14: =IF($A14="","",IF(COUNTIFS(Matrix!$A:$A,$A14,Matrix!N:N,"Very Heavy")>0,"Very Heavy",IF(COUNTIFS(Matrix!$A:$A,$A14,Matrix!N:N,"Heavy")>0,"Heavy",IF(COUNTIFS(Matrix!$A:$A,$A14,Matrix!N:N,"Medium")>0,"Medium",IF(COUNTIFS(Matrix!$A:$A,$A14,Matrix!N:N,"Light")>0,"Light",IF(COUNTIFS(Matrix!$A:$A,$A14,Matrix!N:N,"Low")>0,"Low","")))))) | L14: =IF($A14="","",IF(COUNTIFS(Matrix!$A:$A,$A14,Matrix!O:O,"Very Heavy")>0,"Very Heavy",IF(COUNTIFS(Matrix!$A:$A,$A14,Matrix!O:O,"Heavy")>0,"Heavy",IF(COUNTIFS(Matrix!$A:$A,$A14,Matrix!O:O,"Medium")>0,"Medium",IF(COUNTIFS(Matrix!$A:$A,$A14,Matrix!O:O,"Light")>0,"Light",IF(COUNTIFS(Matrix!$A:$A,$A14,Matrix!O:O,"Low")>0,"Low","")))))) | M14: =IF($A14="","",IF(COUNTIFS(Matrix!$A:$A,$A14,Matrix!P:P,"Very Heavy")>0,"Very Heavy",IF(COUNTIFS(Matrix!$A:$A,$A14,Matrix!P:P,"Heavy")>0,"Heavy",IF(COUNTIFS(Matrix!$A:$A,$A14,Matrix!P:P,"Medium")>0,"Medium",IF(COUNTIFS(Matrix!$A:$A,$A14,Matrix!P:P,"Light")>0,"Light",IF(COUNTIFS(Matrix!$A:$A,$A14,Matrix!P:P,"Low")>0,"Low","")))))) | O14: =IF($A14="","",COUNTIF($B14:$M14,"Very Heavy"))
A15: =IF(People!$A12="","",People!$A12) | B15: =IF($A15="","",IF(COUNTIFS(Matrix!$A:$A,$A15,Matrix!E:E,"Very Heavy")>0,"Very Heavy",IF(COUNTIFS(Matrix!$A:$A,$A15,Matrix!E:E,"Heavy")>0,"Heavy",IF(COUNTIFS(Matrix!$A:$A,$A15,Matrix!E:E,"Medium")>0,"Medium",IF(COUNTIFS(Matrix!$A:$A,$A15,Matrix!E:E,"Light")>0,"Light",IF(COUNTIFS(Matrix!$A:$A,$A15,Matrix!E:E,"Low")>0,"Low","")))))) | C15: =IF($A15="","",IF(COUNTIFS(Matrix!$A:$A,$A15,Matrix!F:F,"Very Heavy")>0,"Very Heavy",IF(COUNTIFS(Matrix!$A:$A,$A15,Matrix!F:F,"Heavy")>0,"Heavy",IF(COUNTIFS(Matrix!$A:$A,$A15,Matrix!F:F,"Medium")>0,"Medium",IF(COUNTIFS(Matrix!$A:$A,$A15,Matrix!F:F,"Light")>0,"Light",IF(COUNTIFS(Matrix!$A:$A,$A15,Matrix!F:F,"Low")>0,"Low","")))))) | D15: =IF($A15="","",IF(COUNTIFS(Matrix!$A:$A,$A15,Matrix!G:G,"Very Heavy")>0,"Very Heavy",IF(COUNTIFS(Matrix!$A:$A,$A15,Matrix!G:G,"Heavy")>0,"Heavy",IF(COUNTIFS(Matrix!$A:$A,$A15,Matrix!G:G,"Medium")>0,"Medium",IF(COUNTIFS(Matrix!$A:$A,$A15,Matrix!G:G,"Light")>0,"Light",IF(COUNTIFS(Matrix!$A:$A,$A15,Matrix!G:G,"Low")>0,"Low","")))))) | E15: =IF($A15="","",IF(COUNTIFS(Matrix!$A:$A,$A15,Matrix!H:H,"Very Heavy")>0,"Very Heavy",IF(COUNTIFS(Matrix!$A:$A,$A15,Matrix!H:H,"Heavy")>0,"Heavy",IF(COUNTIFS(Matrix!$A:$A,$A15,Matrix!H:H,"Medium")>0,"Medium",IF(COUNTIFS(Matrix!$A:$A,$A15,Matrix!H:H,"Light")>0,"Light",IF(COUNTIFS(Matrix!$A:$A,$A15,Matrix!H:H,"Low")>0,"Low","")))))) | F15: =IF($A15="","",IF(COUNTIFS(Matrix!$A:$A,$A15,Matrix!I:I,"Very Heavy")>0,"Very Heavy",IF(COUNTIFS(Matrix!$A:$A,$A15,Matrix!I:I,"Heavy")>0,"Heavy",IF(COUNTIFS(Matrix!$A:$A,$A15,Matrix!I:I,"Medium")>0,"Medium",IF(COUNTIFS(Matrix!$A:$A,$A15,Matrix!I:I,"Light")>0,"Light",IF(COUNTIFS(Matrix!$A:$A,$A15,Matrix!I:I,"Low")>0,"Low","")))))) | G15: =IF($A15="","",IF(COUNTIFS(Matrix!$A:$A,$A15,Matrix!J:J,"Very Heavy")>0,"Very Heavy",IF(COUNTIFS(Matrix!$A:$A,$A15,Matrix!J:J,"Heavy")>0,"Heavy",IF(COUNTIFS(Matrix!$A:$A,$A15,Matrix!J:J,"Medium")>0,"Medium",IF(COUNTIFS(Matrix!$A:$A,$A15,Matrix!J:J,"Light")>0,"Light",IF(COUNTIFS(Matrix!$A:$A,$A15,Matrix!J:J,"Low")>0,"Low","")))))) | H15: =IF($A15="","",IF(COUNTIFS(Matrix!$A:$A,$A15,Matrix!K:K,"Very Heavy")>0,"Very Heavy",IF(COUNTIFS(Matrix!$A:$A,$A15,Matrix!K:K,"Heavy")>0,"Heavy",IF(COUNTIFS(Matrix!$A:$A,$A15,Matrix!K:K,"Medium")>0,"Medium",IF(COUNTIFS(Matrix!$A:$A,$A15,Matrix!K:K,"Light")>0,"Light",IF(COUNTIFS(Matrix!$A:$A,$A15,Matrix!K:K,"Low")>0,"Low","")))))) | I15: =IF($A15="","",IF(COUNTIFS(Matrix!$A:$A,$A15,Matrix!L:L,"Very Heavy")>0,"Very Heavy",IF(COUNTIFS(Matrix!$A:$A,$A15,Matrix!L:L,"Heavy")>0,"Heavy",IF(COUNTIFS(Matrix!$A:$A,$A15,Matrix!L:L,"Medium")>0,"Medium",IF(COUNTIFS(Matrix!$A:$A,$A15,Matrix!L:L,"Light")>0,"Light",IF(COUNTIFS(Matrix!$A:$A,$A15,Matrix!L:L,"Low")>0,"Low","")))))) | J15: =IF($A15="","",IF(COUNTIFS(Matrix!$A:$A,$A15,Matrix!M:M,"Very Heavy")>0,"Very Heavy",IF(COUNTIFS(Matrix!$A:$A,$A15,Matrix!M:M,"Heavy")>0,"Heavy",IF(COUNTIFS(Matrix!$A:$A,$A15,Matrix!M:M,"Medium")>0,"Medium",IF(COUNTIFS(Matrix!$A:$A,$A15,Matrix!M:M,"Light")>0,"Light",IF(COUNTIFS(Matrix!$A:$A,$A15,Matrix!M:M,"Low")>0,"Low","")))))) | K15: =IF($A15="","",IF(COUNTIFS(Matrix!$A:$A,$A15,Matrix!N:N,"Very Heavy")>0,"Very Heavy",IF(COUNTIFS(Matrix!$A:$A,$A15,Matrix!N:N,"Heavy")>0,"Heavy",IF(COUNTIFS(Matrix!$A:$A,$A15,Matrix!N:N,"Medium")>0,"Medium",IF(COUNTIFS(Matrix!$A:$A,$A15,Matrix!N:N,"Light")>0,"Light",IF(COUNTIFS(Matrix!$A:$A,$A15,Matrix!N:N,"Low")>0,"Low","")))))) | L15: =IF($A15="","",IF(COUNTIFS(Matrix!$A:$A,$A15,Matrix!O:O,"Very Heavy")>0,"Very Heavy",IF(COUNTIFS(Matrix!$A:$A,$A15,Matrix!O:O,"Heavy")>0,"Heavy",IF(COUNTIFS(Matrix!$A:$A,$A15,Matrix!O:O,"Medium")>0,"Medium",IF(COUNTIFS(Matrix!$A:$A,$A15,Matrix!O:O,"Light")>0,"Light",IF(COUNTIFS(Matrix!$A:$A,$A15,Matrix!O:O,"Low")>0,"Low","")))))) | M15: =IF($A15="","",IF(COUNTIFS(Matrix!$A:$A,$A15,Matrix!P:P,"Very Heavy")>0,"Very Heavy",IF(COUNTIFS(Matrix!$A:$A,$A15,Matrix!P:P,"Heavy")>0,"Heavy",IF(COUNTIFS(Matrix!$A:$A,$A15,Matrix!P:P,"Medium")>0,"Medium",IF(COUNTIFS(Matrix!$A:$A,$A15,Matrix!P:P,"Light")>0,"Light",IF(COUNTIFS(Matrix!$A:$A,$A15,Matrix!P:P,"Low")>0,"Low","")))))) | O15: =IF($A15="","",COUNTIF($B15:$M15,"Very Heavy"))
A16: =IF(People!$A13="","",People!$A13) | B16: =IF($A16="","",IF(COUNTIFS(Matrix!$A:$A,$A16,Matrix!E:E,"Very Heavy")>0,"Very Heavy",IF(COUNTIFS(Matrix!$A:$A,$A16,Matrix!E:E,"Heavy")>0,"Heavy",IF(COUNTIFS(Matrix!$A:$A,$A16,Matrix!E:E,"Medium")>0,"Medium",IF(COUNTIFS(Matrix!$A:$A,$A16,Matrix!E:E,"Light")>0,"Light",IF(COUNTIFS(Matrix!$A:$A,$A16,Matrix!E:E,"Low")>0,"Low","")))))) | C16: =IF($A16="","",IF(COUNTIFS(Matrix!$A:$A,$A16,Matrix!F:F,"Very Heavy")>0,"Very Heavy",IF(COUNTIFS(Matrix!$A:$A,$A16,Matrix!F:F,"Heavy")>0,"Heavy",IF(COUNTIFS(Matrix!$A:$A,$A16,Matrix!F:F,"Medium")>0,"Medium",IF(COUNTIFS(Matrix!$A:$A,$A16,Matrix!F:F,"Light")>0,"Light",IF(COUNTIFS(Matrix!$A:$A,$A16,Matrix!F:F,"Low")>0,"Low","")))))) | D16: =IF($A16="","",IF(COUNTIFS(Matrix!$A:$A,$A16,Matrix!G:G,"Very Heavy")>0,"Very Heavy",IF(COUNTIFS(Matrix!$A:$A,$A16,Matrix!G:G,"Heavy")>0,"Heavy",IF(COUNTIFS(Matrix!$A:$A,$A16,Matrix!G:G,"Medium")>0,"Medium",IF(COUNTIFS(Matrix!$A:$A,$A16,Matrix!G:G,"Light")>0,"Light",IF(COUNTIFS(Matrix!$A:$A,$A16,Matrix!G:G,"Low")>0,"Low","")))))) | E16: =IF($A16="","",IF(COUNTIFS(Matrix!$A:$A,$A16,Matrix!H:H,"Very Heavy")>0,"Very Heavy",IF(COUNTIFS(Matrix!$A:$A,$A16,Matrix!H:H,"Heavy")>0,"Heavy",IF(COUNTIFS(Matrix!$A:$A,$A16,Matrix!H:H,"Medium")>0,"Medium",IF(COUNTIFS(Matrix!$A:$A,$A16,Matrix!H:H,"Light")>0,"Light",IF(COUNTIFS(Matrix!$A:$A,$A16,Matrix!H:H,"Low")>0,"Low","")))))) | F16: =IF($A16="","",IF(COUNTIFS(Matrix!$A:$A,$A16,Matrix!I:I,"Very Heavy")>0,"Very Heavy",IF(COUNTIFS(Matrix!$A:$A,$A16,Matrix!I:I,"Heavy")>0,"Heavy",IF(COUNTIFS(Matrix!$A:$A,$A16,Matrix!I:I,"Medium")>0,"Medium",IF(COUNTIFS(Matrix!$A:$A,$A16,Matrix!I:I,"Light")>0,"Light",IF(COUNTIFS(Matrix!$A:$A,$A16,Matrix!I:I,"Low")>0,"Low","")))))) | G16: =IF($A16="","",IF(COUNTIFS(Matrix!$A:$A,$A16,Matrix!J:J,"Very Heavy")>0,"Very Heavy",IF(COUNTIFS(Matrix!$A:$A,$A16,Matrix!J:J,"Heavy")>0,"Heavy",IF(COUNTIFS(Matrix!$A:$A,$A16,Matrix!J:J,"Medium")>0,"Medium",IF(COUNTIFS(Matrix!$A:$A,$A16,Matrix!J:J,"Light")>0,"Light",IF(COUNTIFS(Matrix!$A:$A,$A16,Matrix!J:J,"Low")>0,"Low","")))))) | H16: =IF($A16="","",IF(COUNTIFS(Matrix!$A:$A,$A16,Matrix!K:K,"Very Heavy")>0,"Very Heavy",IF(COUNTIFS(Matrix!$A:$A,$A16,Matrix!K:K,"Heavy")>0,"Heavy",IF(COUNTIFS(Matrix!$A:$A,$A16,Matrix!K:K,"Medium")>0,"Medium",IF(COUNTIFS(Matrix!$A:$A,$A16,Matrix!K:K,"Light")>0,"Light",IF(COUNTIFS(Matrix!$A:$A,$A16,Matrix!K:K,"Low")>0,"Low","")))))) | I16: =IF($A16="","",IF(COUNTIFS(Matrix!$A:$A,$A16,Matrix!L:L,"Very Heavy")>0,"Very Heavy",IF(COUNTIFS(Matrix!$A:$A,$A16,Matrix!L:L,"Heavy")>0,"Heavy",IF(COUNTIFS(Matrix!$A:$A,$A16,Matrix!L:L,"Medium")>0,"Medium",IF(COUNTIFS(Matrix!$A:$A,$A16,Matrix!L:L,"Light")>0,"Light",IF(COUNTIFS(Matrix!$A:$A,$A16,Matrix!L:L,"Low")>0,"Low","")))))) | J16: =IF($A16="","",IF(COUNTIFS(Matrix!$A:$A,$A16,Matrix!M:M,"Very Heavy")>0,"Very Heavy",IF(COUNTIFS(Matrix!$A:$A,$A16,Matrix!M:M,"Heavy")>0,"Heavy",IF(COUNTIFS(Matrix!$A:$A,$A16,Matrix!M:M,"Medium")>0,"Medium",IF(COUNTIFS(Matrix!$A:$A,$A16,Matrix!M:M,"Light")>0,"Light",IF(COUNTIFS(Matrix!$A:$A,$A16,Matrix!M:M,"Low")>0,"Low","")))))) | K16: =IF($A16="","",IF(COUNTIFS(Matrix!$A:$A,$A16,Matrix!N:N,"Very Heavy")>0,"Very Heavy",IF(COUNTIFS(Matrix!$A:$A,$A16,Matrix!N:N,"Heavy")>0,"Heavy",IF(COUNTIFS(Matrix!$A:$A,$A16,Matrix!N:N,"Medium")>0,"Medium",IF(COUNTIFS(Matrix!$A:$A,$A16,Matrix!N:N,"Light")>0,"Light",IF(COUNTIFS(Matrix!$A:$A,$A16,Matrix!N:N,"Low")>0,"Low","")))))) | L16: =IF($A16="","",IF(COUNTIFS(Matrix!$A:$A,$A16,Matrix!O:O,"Very Heavy")>0,"Very Heavy",IF(COUNTIFS(Matrix!$A:$A,$A16,Matrix!O:O,"Heavy")>0,"Heavy",IF(COUNTIFS(Matrix!$A:$A,$A16,Matrix!O:O,"Medium")>0,"Medium",IF(COUNTIFS(Matrix!$A:$A,$A16,Matrix!O:O,"Light")>0,"Light",IF(COUNTIFS(Matrix!$A:$A,$A16,Matrix!O:O,"Low")>0,"Low","")))))) | M16: =IF($A16="","",IF(COUNTIFS(Matrix!$A:$A,$A16,Matrix!P:P,"Very Heavy")>0,"Very Heavy",IF(COUNTIFS(Matrix!$A:$A,$A16,Matrix!P:P,"Heavy")>0,"Heavy",IF(COUNTIFS(Matrix!$A:$A,$A16,Matrix!P:P,"Medium")>0,"Medium",IF(COUNTIFS(Matrix!$A:$A,$A16,Matrix!P:P,"Light")>0,"Light",IF(COUNTIFS(Matrix!$A:$A,$A16,Matrix!P:P,"Low")>0,"Low","")))))) | O16: =IF($A16="","",COUNTIF($B16:$M16,"Very Heavy"))
... A44: =IF(People!$A41="","",People!$A41) | B44: =IF($A44="","",IF(COUNTIFS(Matrix!$A:$A,$A44,Matrix!E:E,"Very Heavy")>0,"Very Heavy",IF(COUNTIFS(Matrix!$A:$A,$A44,Matrix!E:E,"Heavy")>0,"Heavy",IF(COUNTIFS(Matrix!$A:$A,$A44,Matrix!E:E,"Medium")>0,"Medium",IF(COUNTIFS(Matrix!$A:$A,$A44,Matrix!E:E,"Light")>0,"Light",IF(COUNTIFS(Matrix!$A:$A,$A44,Matrix!E:E,"Low")>0,"Low","")))))) | C44: =IF($A44="","",IF(COUNTIFS(Matrix!$A:$A,$A44,Matrix!F:F,"Very Heavy")>0,"Very Heavy",IF(COUNTIFS(Matrix!$A:$A,$A44,Matrix!F:F,"Heavy")>0,"Heavy",IF(COUNTIFS(Matrix!$A:$A,$A44,Matrix!F:F,"Medium")>0,"Medium",IF(COUNTIFS(Matrix!$A:$A,$A44,Matrix!F:F,"Light")>0,"Light",IF(COUNTIFS(Matrix!$A:$A,$A44,Matrix!F:F,"Low")>0,"Low","")))))) | D44: =IF($A44="","",IF(COUNTIFS(Matrix!$A:$A,$A44,Matrix!G:G,"Very Heavy")>0,"Very Heavy",IF(COUNTIFS(Matrix!$A:$A,$A44,Matrix!G:G,"Heavy")>0,"Heavy",IF(COUNTIFS(Matrix!$A:$A,$A44,Matrix!G:G,"Medium")>0,"Medium",IF(COUNTIFS(Matrix!$A:$A,$A44,Matrix!G:G,"Light")>0,"Light",IF(COUNTIFS(Matrix!$A:$A,$A44,Matrix!G:G,"Low")>0,"Low","")))))) | E44: =IF($A44="","",IF(COUNTIFS(Matrix!$A:$A,$A44,Matrix!H:H,"Very Heavy")>0,"Very Heavy",IF(COUNTIFS(Matrix!$A:$A,$A44,Matrix!H:H,"Heavy")>0,"Heavy",IF(COUNTIFS(Matrix!$A:$A,$A44,Matrix!H:H,"Medium")>0,"Medium",IF(COUNTIFS(Matrix!$A:$A,$A44,Matrix!H:H,"Light")>0,"Light",IF(COUNTIFS(Matrix!$A:$A,$A44,Matrix!H:H,"Low")>0,"Low","")))))) | F44: =IF($A44="","",IF(COUNTIFS(Matrix!$A:$A,$A44,Matrix!I:I,"Very Heavy")>0,"Very Heavy",IF(COUNTIFS(Matrix!$A:$A,$A44,Matrix!I:I,"Heavy")>0,"Heavy",IF(COUNTIFS(Matrix!$A:$A,$A44,Matrix!I:I,"Medium")>0,"Medium",IF(COUNTIFS(Matrix!$A:$A,$A44,Matrix!I:I,"Light")>0,"Light",IF(COUNTIFS(Matrix!$A:$A,$A44,Matrix!I:I,"Low")>0,"Low","")))))) | G44: =IF($A44="","",IF(COUNTIFS(Matrix!$A:$A,$A44,Matrix!J:J,"Very Heavy")>0,"Very Heavy",IF(COUNTIFS(Matrix!$A:$A,$A44,Matrix!J:J,"Heavy")>0,"Heavy",IF(COUNTIFS(Matrix!$A:$A,$A44,Matrix!J:J,"Medium")>0,"Medium",IF(COUNTIFS(Matrix!$A:$A,$A44,Matrix!J:J,"Light")>0,"Light",IF(COUNTIFS(Matrix!$A:$A,$A44,Matrix!J:J,"Low")>0,"Low","")))))) | H44: =IF($A44="","",IF(COUNTIFS(Matrix!$A:$A,$A44,Matrix!K:K,"Very Heavy")>0,"Very Heavy",IF(COUNTIFS(Matrix!$A:$A,$A44,Matrix!K:K,"Heavy")>0,"Heavy",IF(COUNTIFS(Matrix!$A:$A,$A44,Matrix!K:K,"Medium")>0,"Medium",IF(COUNTIFS(Matrix!$A:$A,$A44,Matrix!K:K,"Light")>0,"Light",IF(COUNTIFS(Matrix!$A:$A,$A44,Matrix!K:K,"Low")>0,"Low","")))))) | I44: =IF($A44="","",IF(COUNTIFS(Matrix!$A:$A,$A44,Matrix!L:L,"Very Heavy")>0,"Very Heavy",IF(COUNTIFS(Matrix!$A:$A,$A44,Matrix!L:L,"Heavy")>0,"Heavy",IF(COUNTIFS(Matrix!$A:$A,$A44,Matrix!L:L,"Medium")>0,"Medium",IF(COUNTIFS(Matrix!$A:$A,$A44,Matrix!L:L,"Light")>0,"Light",IF(COUNTIFS(Matrix!$A:$A,$A44,Matrix!L:L,"Low")>0,"Low","")))))) | J44: =IF($A44="","",IF(COUNTIFS(Matrix!$A:$A,$A44,Matrix!M:M,"Very Heavy")>0,"Very Heavy",IF(COUNTIFS(Matrix!$A:$A,$A44,Matrix!M:M,"Heavy")>0,"Heavy",IF(COUNTIFS(Matrix!$A:$A,$A44,Matrix!M:M,"Medium")>0,"Medium",IF(COUNTIFS(Matrix!$A:$A,$A44,Matrix!M:M,"Light")>0,"Light",IF(COUNTIFS(Matrix!$A:$A,$A44,Matrix!M:M,"Low")>0,"Low","")))))) | K44: =IF($A44="","",IF(COUNTIFS(Matrix!$A:$A,$A44,Matrix!N:N,"Very Heavy")>0,"Very Heavy",IF(COUNTIFS(Matrix!$A:$A,$A44,Matrix!N:N,"Heavy")>0,"Heavy",IF(COUNTIFS(Matrix!$A:$A,$A44,Matrix!N:N,"Medium")>0,"Medium",IF(COUNTIFS(Matrix!$A:$A,$A44,Matrix!N:N,"Light")>0,"Light",IF(COUNTIFS(Matrix!$A:$A,$A44,Matrix!N:N,"Low")>0,"Low","")))))) | L44: =IF($A44="","",IF(COUNTIFS(Matrix!$A:$A,$A44,Matrix!O:O,"Very Heavy")>0,"Very Heavy",IF(COUNTIFS(Matrix!$A:$A,$A44,Matrix!O:O,"Heavy")>0,"Heavy",IF(COUNTIFS(Matrix!$A:$A,$A44,Matrix!O:O,"Medium")>0,"Medium",IF(COUNTIFS(Matrix!$A:$A,$A44,Matrix!O:O,"Light")>0,"Light",IF(COUNTIFS(Matrix!$A:$A,$A44,Matrix!O:O,"Low")>0,"Low","")))))) | M44: =IF($A44="","",IF(COUNTIFS(Matrix!$A:$A,$A44,Matrix!P:P,"Very Heavy")>0,"Very Heavy",IF(COUNTIFS(Matrix!$A:$A,$A44,Matrix!P:P,"Heavy")>0,"Heavy",IF(COUNTIFS(Matrix!$A:$A,$A44,Matrix!P:P,"Medium")>0,"Medium",IF(COUNTIFS(Matrix!$A:$A,$A44,Matrix!P:P,"Light")>0,"Light",IF(COUNTIFS(Matrix!$A:$A,$A44,Matrix!P:P,"Low")>0,"Low","")))))) | O44: =IF($A44="","",COUNTIF($B44:$M44,"Very Heavy"))

Sheet Matrix
A1: Person | B1: Client | C1: Project | D1: Deliverable | E1: 46300 | F1: 46307 | G1: 46314 | H1: 46321 | I1: 46328 | J1: 46335 | K1: 46342 | L1: 46349 | M1: 46356 | N1: 46363 | O1: 46370 | P1: 46377
A2: Priya Natarajan | B2: Copperline Coffee | C2: Spring rebrand | D2: Creative direction | E2: Heavy | F2: Medium | G2: Medium | H2: Light
A3: Priya Natarajan | B3: Tidewater Brewing | C3: Packaging refresh | D3: Pitch deck | F3: Light | H3: Medium
A4: Lena Fischer | B4: Copperline Coffee | C4: Spring rebrand | D4: Logo concepts | E4: Very Heavy | F4: Very Heavy | G4: Heavy
A5: Lena Fischer | B5: Fieldstone Realty | C5: Website rebuild | D5: Homepage design | F5: Medium | G5: Heavy | H5: Heavy
A6: Marcus Bell | B6: Fieldstone Realty | C6: Website rebuild | D6: Page templates | E6: Heavy | F6: Heavy | G6: Very Heavy | H6: Medium
A7: Hana Sato | B7: Copperline Coffee | C7: Spring rebrand | D7: Brand messaging | E7: Medium | F7: Medium
A8: Hana Sato | B8: Fieldstone Realty | C8: Website rebuild | D8: Page copy | G8: Medium | H8: Heavy
A9: Hana Sato | B9: Juniper Outdoor Co. | C9: Q4 paid social | D9: Ad copy | E9: Medium | F9: Light
A10: Theo Grant | B10: Fieldstone Realty | C10: Website rebuild | D10: CMS build | E10: Medium | F10: Heavy | G10: Very Heavy | H10: Heavy
A11: Grace Liu | B11: Juniper Outdoor Co. | C11: Q4 paid social | D11: Media plan and launch | E11: Heavy | F11: Medium | G11: Light | H11: Low

Sheet People
A1: Name | B1: Email | C1: Title | D1: Country | E1: State / region | F1: Exclude from load
A2: Priya Natarajan | C2: Creative Director | D2: US | E2: NY | F2: No
A3: Lena Fischer | C3: Senior Designer | D3: US | E3: NY | F3: No
A4: Marcus Bell | C4: Designer | D4: US | E4: PA | F4: No
A5: Hana Sato | C5: Copywriter | D5: US | E5: CA | F5: No
A6: Theo Grant | C6: Web Developer | D6: US | E6: TX | F6: No
A7: Grace Liu | C7: Paid Media Lead | D7: US | E7: IL | F7: No

Sheet Projects
A1: Project | B1: Client | C1: Status | D1: Team | E1: Heavy week | F1: Heavy month | G1: Key date | H1: Priority | I1: Notes
A2: Spring rebrand | B2: Copperline Coffee | C2: In progress | D2: Priya Natarajan, Lena Fischer, Hana Sato | E2: Yes | F2: No | G2: 46311 | H2: 1 | I2: Example row: replace it with one of your projects.
A3: Website rebuild | B3: Fieldstone Realty | C3: In progress | D3: Lena Fischer, Marcus Bell, Hana Sato, Theo Grant | E3: No | F3: Yes | G3: 46324 | H3: 2
A4: Q4 paid social | B4: Juniper Outdoor Co. | C4: In progress | D4: Hana Sato, Grace Liu | E4: No | F4: No | G4: 46304 | H4: 3
A5: Packaging refresh | B5: Tidewater Brewing | C5: Proposal | D5: Priya Natarajan | E5: No | F5: No | G5: 46316

Sheet Time off
A1: Person | B1: From | C1: Until | D1: Full or half day
A2: Marcus Bell | B2: 46310 | C2: 46311 | D2: Full day
A3: Hana Sato | B3: 46304 | D3: Half day
A4: Theo Grant | B4: 46321 | D4: Full day
